BEGIN:VCALENDAR
VERSION:2.0
PRODID:-//wp-events-plugin.com//7.2.2.1//EN
TZID:America/Toronto
X-WR-TIMEZONE:America/Toronto
BEGIN:VEVENT
UID:36@mediaconfederation.com
DTSTART;TZID=America/Toronto:20221019T100000
DTEND;TZID=America/Toronto:20221020T150000
DTSTAMP:20221018T225746Z
URL:https://mediaconfederation.com/events/ymca%e7%96%ab%e6%83%85%e5%90%8e%
 e9%a6%96%e6%ac%a1%e7%89%b9%e5%a4%a7%e9%9d%a2%e5%af%b9%e9%9d%a2%e9%9b%87%e4
 %b8%bb%e6%8b%9b%e8%81%98%e4%bc%9a
SUMMARY:YMCA疫情后首次特大面对面雇主招聘会
DESCRIPTION:\n\n 	时间：2022年10月19日（周三）上午10点至下
 午3点\n\n\n\n\n地点：2901 Markham Road (近McNicoll Ave路口，在Ma
 rkham Convention Centre里面）\n\n免费停车位\n\n&nbsp\;\n\n招聘
 职位：\n\nWalmart-晚班助理\n\nBGIS-双语服务代表\n\nVHA-PSW\n\
 nSingle Point-电话中心代表\n\nParamed-PSW\, HSW\n\nGreatway Financia
 l-保险顾问\n\nInterFulfillment Inc-仓库员，收发货，库存管
 理，客服代表\n\nYMCA Childcare-ECE\, ECA\, 早教培训员，SSW等
 \n\nToronto Living Care Services-PSW\n\nAlpha Label Inc-机器操作工人
 \n\nPlay Forever-课后活动助理，社交媒体助理\n\nConnet6-电话
 中心代表，活动销售代表\n\nJoriki Inc-机器操作员，叉车
 操作员\n\nCourtyard &amp\; Towneplace Suites-客房服务，洗衣工
 人\n\nSecuritas-保安\n\nSteer-司机\n\nBurger King-门店员工，厨
 师\n\nKelly Services-包装工，生产线工人\n\nMcDonald’s-门店
 员工，厨师，客服代表\n\nCalvary Child and Family Services-青少
 年儿童服务员工\n\nTony Mac-门店员工，厨师，客服代表\n\n
 Spotted Clothing-发货，仓库助手，仓库经理\n\nMonte Carlo Inn-
 前台客服，客房服务等\n\nTippet Richardson-司机（AZ，DZ，G
 牌），搬家助手\n\nElite Residential Concierge-保安，礼宾服务
 \n\n&nbsp\;\n\n请正装出席参加现场面试会。由于招聘会规
 模巨大，请事先备好个人简历，带上SIN卡，提前15分钟抵
 达现场，免费停车。祝您找到称心如意的职位。\n\n&nbsp\;
 \n\nYMCA Scarborough Finch Ave East\n\n\n\n
ATTACH;FMTTYPE=image/jpeg:https://mediaconfederation.com/wp-content/upload
 s/2022/10/633e2286e4656.jpg
CATEGORIES:活动聚会
LOCATION:YMCA\, 2901 Markham Road\, Markham\,\,  ON \, M1X 0B6\, 加拿大
GEO:43.824877;-79.247701
X-APPLE-STRUCTURED-LOCATION;VALUE=URI;X-ADDRESS=2901 Markham Road\, Markham
 \,\,  ON \, M1X 0B6\, 加拿大;X-APPLE-RADIUS=100;X-TITLE=YMCA:geo:43.824
 877,-79.247701
END:VEVENT
BEGIN:VTIMEZONE
TZID:America/Toronto
X-LIC-LOCATION:America/Toronto
BEGIN:DAYLIGHT
DTSTART:20220313T030000
TZOFFSETFROM:-0500
TZOFFSETTO:-0400
TZNAME:EDT
END:DAYLIGHT
END:VTIMEZONE
END:VCALENDAR