BEGIN:VCALENDAR
VERSION:2.0
PRODID:-//wp-events-plugin.com//7.2.2.1//EN
TZID:America/Toronto
X-WR-TIMEZONE:America/Toronto
BEGIN:VEVENT
UID:26@mediaconfederation.com
DTSTART;TZID=America/Toronto:20221020T193000
DTEND;TZID=America/Toronto:20221020T213000
DTSTAMP:20221015T195109Z
URL:https://mediaconfederation.com/events/report
SUMMARY:线下活动：教你如何巧妙资产布局
DESCRIPTION:财富不是靠工资，而是靠正确投资。三年前的选
 择，决定了今天的生活；而今天的选择，决定了三年后
 的生活！\n\n创造财富需要机遇，守住财富需要布局，传
 承财富需要智慧：\n\n解析传统观念与错误：\n\n1. 财务不
 体检的错误何在？\n\n2. 无债一身轻的错误何在？\n\n3. 把
 钱都放银行的错误何在？\n\n4. 高风险高回报的错误何在
 ？\n\n5. 资产配置不平衡的错误何在？\n\n6. 忽视战略战术
 的错误何在？\n\n量体裁衣做好整体税务策划 ，巧妙布局
 资产，正确运用政策才是确保财富稳健增长的最佳途径
 。\n\n\n\n10月20号，咸氏金融总裁、加拿大第一财富银行
 （Wealth One Bank of Canada）创始人咸生林先生，这位拥有北
 美三项最高理财职衔的华人金融理财专家，将结合自己32
 年金融行业从业经验，与您一起解析如何应对高通胀，
 规避资产错位雷区，订制量体裁衣的理财计划，帮你掌
 握智慧理财的金钥匙！\n\n适合人群：诚邀公司企业主；
 地产精英；自雇人士莅临。提供精美茶点  |  免费车位\
 n\n讲座时间:  2022年10月20日（周四）多伦多晚上 7:30-9:30
 pm（7:00- 7:30 精美茶点）\n\n讲座形式:  线上线下同时进
 行  |  提前报名预约\n\n直播形式:  Zoom Online Meeting(会
 议ID将通过短信提前发送)\n\n现场地址:  170 Sheppard Ave E S
 uite 600\, North York\, ON M2N 3A4  |  免费车位\n\n电话预约:  
 647-888-8055 艾拉\n\n
ATTACH;FMTTYPE=image/jpeg:https://mediaconfederation.com/wp-content/upload
 s/2022/10/摄图网_401753241_banner_公积金（非企业商用）-min.jp
 g
CATEGORIES:论坛讲座
END:VEVENT
BEGIN:VTIMEZONE
TZID:America/Toronto
X-LIC-LOCATION:America/Toronto
BEGIN:DAYLIGHT
DTSTART:20220313T030000
TZOFFSETFROM:-0500
TZOFFSETTO:-0400
TZNAME:EDT
END:DAYLIGHT
END:VTIMEZONE
END:VCALENDAR