BEGIN:VCALENDAR
VERSION:2.0
PRODID:-//wp-events-plugin.com//7.2.2.1//EN
TZID:America/Toronto
X-WR-TIMEZONE:America/Toronto
BEGIN:VEVENT
UID:6@mediaconfederation.com
DTSTART;TZID=America/Toronto:20221006T004500
DTEND;TZID=America/Toronto:20221007T150000
DTSTAMP:20220819T212616Z
URL:https://mediaconfederation.com/events/opening-ceremony
SUMMARY:Opening Ceremony
DESCRIPTION:&nbsp\;\n\nNew store opening\n\nNew store opening\n\nNew store 
 opening\n\nNew store opening\n\nNew store opening
ATTACH;FMTTYPE=image/jpeg:https://mediaconfederation.com/wp-content/upload
 s/2022/08/banner_img-1.jpeg
CATEGORIES:商务推广
END:VEVENT
BEGIN:VTIMEZONE
TZID:America/Toronto
X-LIC-LOCATION:America/Toronto
BEGIN:DAYLIGHT
DTSTART:20220313T030000
TZOFFSETFROM:-0500
TZOFFSETTO:-0400
TZNAME:EDT
END:DAYLIGHT
END:VTIMEZONE
END:VCALENDAR