BEGIN:VCALENDAR
VERSION:2.0
PRODID:-//wp-events-plugin.com//7.2.2.1//EN
TZID:America/Toronto
X-WR-TIMEZONE:America/Toronto
BEGIN:VEVENT
UID:3@mediaconfederation.com
DTSTART;TZID=America/Toronto:20220828T060000
DTEND;TZID=America/Toronto:20220828T073000
DTSTAMP:20220819T211907Z
URL:https://mediaconfederation.com/events/oakview
SUMMARY:8月28日 第八期《快乐唱歌益智养生活动》在Oakview T
 errace皇家庄园进行
DESCRIPTION:不知不觉，《快乐唱歌益智养生活动已经到了第
 八期了。 经过上期的活动，大家不仅知道了养生秘诀，
 交到了新的朋友，还获得了丰厚的奖品。第八期当然也
 不例外哦！\n\n想找到新的朋友吗，想要在平淡的生活中
 增添欢乐的音乐气息吗？想要知道如何有方法的科学养
 生吗？那还不快来参加我们的《快乐唱歌益智养生活动
 》。其实，锻炼身体也是一门讲究的学问。如果自己在
 家里无章法的练习可能会导致物极必反的效果。所以，
 大家需要学会用正确的方式来保护自己，好好爱自己。\n
 \n8月28日第八期将在Oakview Terrace皇家庄园进行。\n\n第八
 期的上半场内容是青年舞蹈家李璐老师。璐璐老师在往
 期就开始教大家如何通过跳舞活动活动自己的筋骨，通
 过有氧的方式，增加自己的免疫力，恢复自己的精气神
 。\n\n在下半场则是大家的老朋友（CM注册教师，中国音
 乐家协会会员）苗苗老师跟大家一起练习歌曲详细解释
 呼吸原理，教授腹式呼吸和演唱技巧。\n\n活动时间：8月
 28日6点至7点半\n\n活动地点；13256 Leslie St. Richmond Hill\, ON
  L4E 1A2\n\n活动安排: 6:00 PM ~6:45PM\, 舞蹈李璐老师跟大家学
 习新的健身舞蹈’Night Fever’\n6:45PM~7:30 PM\, 苗苗老师跟
 大家一起练习歌曲《可可托海的牧羊人》《南屏晚钟》\n
 \n报名条件：任何人都可以参加，55岁以上免费\n\n报名方
 式：请将您与随行亲朋好友的姓名及电话号码告知主办
 方《轻松传媒》\n\n————————————————
 ————————————————————————
 —\n\n\n\n请扫二维码入群报名\n\n更多活动信息，请垂询
 ：\n\n437-982-6859\n\neasycainfo@gmail.com\n\n两期活动敬老赠品提
 供：\n\n 	郎迪酒庄（9941 LUNDY’SLANE Niagara Falls ）提供一
 天一夜的贵宾住宿+品酒\n 	LCBO价值30元的郎迪白葡萄酒若
 干瓶\n 	方太厨具提供的厨夫人砂锅2个\n 	锦添食品为大
 家特别赞助价值$800刀的美味食品\n\n* 郎迪酒庄关爱老人
 ，为活动赠送免费庄园住宿体验及葡萄酒品尝活动*\n\n\n\
 n* 9941 LUNDY’SLANE Niagara Falls *\n\n&nbsp\;\n\n* 锦添食品JIN TIAN
  FOOD 为《快乐歌唱活动》提供价值 $800的点心! *\n\n\n\n* 
 关爱老人 服务社群！ *\n\n&nbsp\;\n\n* 方太集团为了孝敬老
 年人:赠送特品砂锅2只及特送上优惠卷，买方太产品都将
 优惠$50 *\n\n\n\n* 保存图片至手机，向店员展示就可代金
 消费。 *\n\n&nbsp\;\n\n* 太平洋迅捷赠送老人太阳帽 *\n\n\n
 \n* 先到先得，领完为止 *\n\n&nbsp\;\n\n主办单位：\n轻松传
 媒\n\n协办单位：\n加拿大数字媒体发展协会 (DMDAC) \n郎
 迪酒庄\n方太集团\n咸氏金融\n太平洋迅捷旅游
ATTACH;FMTTYPE=image/jpeg:https://mediaconfederation.com/wp-content/upload
 s/2022/08/istockphoto-482736620-612x612-2.jpg
CATEGORIES:活动聚会
END:VEVENT
BEGIN:VTIMEZONE
TZID:America/Toronto
X-LIC-LOCATION:America/Toronto
BEGIN:DAYLIGHT
DTSTART:20220313T030000
TZOFFSETFROM:-0500
TZOFFSETTO:-0400
TZNAME:EDT
END:DAYLIGHT
END:VTIMEZONE
END:VCALENDAR