BEGIN:VCALENDAR
VERSION:2.0
PRODID:-//wp-events-plugin.com//7.2.2.1//EN
TZID:America/Toronto
X-WR-TIMEZONE:America/Toronto
BEGIN:VEVENT
UID:8@mediaconfederation.com
DTSTART;TZID=America/Toronto:20220901T010000
DTEND;TZID=America/Toronto:20220907T020000
DTSTAMP:20220819T214523Z
URL:https://mediaconfederation.com/events/new-townhouse-demo
SUMMARY:New Townhouse Demo
DESCRIPTION:New Townhouse Demo at yorkland\n\nNew Townhouse Demo at yorklan
 d\n\nNew Townhouse Demo at yorkland\n\nNew Townhouse Demo at yorkland\n\nN
 ew Townhouse Demo at yorkland\n\nNew Townhouse Demo at yorkland
ATTACH;FMTTYPE=image/jpeg:https://mediaconfederation.com/wp-content/upload
 s/2022/08/concentrated-man-in-safety-gear-building-a-house-2021-09-03-21-0
 2-56-utc111.jpg
LOCATION:HeartWood\, 245 Yorkland Blvd\, North York\, 加拿大
GEO:43.772644;-79.336786
X-APPLE-STRUCTURED-LOCATION;VALUE=URI;X-ADDRESS=245 Yorkland Blvd\, North Y
 ork\, 加拿大;X-APPLE-RADIUS=100;X-TITLE=HeartWood:geo:43.772644,-79.336
 786
END:VEVENT
BEGIN:VTIMEZONE
TZID:America/Toronto
X-LIC-LOCATION:America/Toronto
BEGIN:DAYLIGHT
DTSTART:20220313T030000
TZOFFSETFROM:-0500
TZOFFSETTO:-0400
TZNAME:EDT
END:DAYLIGHT
END:VTIMEZONE
END:VCALENDAR