BEGIN:VCALENDAR
VERSION:2.0
PRODID:-//wp-events-plugin.com//7.2.2.1//EN
TZID:America/Toronto
X-WR-TIMEZONE:America/Toronto
BEGIN:VEVENT
UID:39@mediaconfederation.com
DTSTART;TZID=America/Toronto:20221027T140000
DTEND;TZID=America/Toronto:20221027T160000
DTSTAMP:20221025T163926Z
URL:https://mediaconfederation.com/events/meeting
SUMMARY:2022安省当选市长、市议员、教委与多伦多媒体和公
 众见面会
DESCRIPTION:2022安省当选市长、市议员、教委与多伦多媒体
 和公众见面会\n\nMeeting Ontario 2022 Newly Elected Mayors\, City Cou
 ncillors &amp\; School Board Trustees\n\n时间：2022年10月27日 14:00\
 n地址：新动力传媒大礼堂 Xinflix Media Auditorium\n421 Bentley S
 treet\, Unit 8\, Markham ON L3R 9T2
ATTACH;FMTTYPE=image/jpeg:https://mediaconfederation.com/wp-content/upload
 s/2022/10/102838.jpg
CATEGORIES:活动聚会
LOCATION:Xinflix Media\, 421 Bentley St. Unit 8\, Markham\, ON L3R 9T2\, Ma
 rkham\, 加拿大
GEO:43.829622;-79.338398
X-APPLE-STRUCTURED-LOCATION;VALUE=URI;X-ADDRESS=421 Bentley St. Unit 8\, Ma
 rkham\, ON L3R 9T2\, Markham\, 加拿大;X-APPLE-RADIUS=100;X-TITLE=Xinfli
 x Media:geo:43.829622,-79.338398
END:VEVENT
BEGIN:VTIMEZONE
TZID:America/Toronto
X-LIC-LOCATION:America/Toronto
BEGIN:DAYLIGHT
DTSTART:20220313T030000
TZOFFSETFROM:-0500
TZOFFSETTO:-0400
TZNAME:EDT
END:DAYLIGHT
END:VTIMEZONE
END:VCALENDAR