BEGIN:VCALENDAR
VERSION:2.0
PRODID:-//wp-events-plugin.com//7.2.2.1//EN
TZID:America/Toronto
X-WR-TIMEZONE:America/Toronto
BEGIN:VEVENT
UID:9@mediaconfederation.com
DTSTART;TZID=America/Toronto:20220828T051500
DTEND;TZID=America/Toronto:20220828T203000
DTSTAMP:20220819T231524Z
URL:https://mediaconfederation.com/events/dinner-party-celebration
SUMMARY:Dinner Party Celebration
DESCRIPTION:Buffet at this restaurant\n\nBuffet at this restaurant\n\nBuffe
 t at this restaurant\n\nBuffet at this restaurant\n\nBuffet at this restau
 rant\n\nBuffet at this restaurant\n\nBuffet at this restaurant\n\n&nbsp\;
ATTACH;FMTTYPE=image/jpeg:https://mediaconfederation.com/wp-content/upload
 s/2022/08/close-up-of-couple-at-table-in-traditional-english-2022-02-08-22
 -39-28-utc111.jpg
CATEGORIES:颁奖晚宴
LOCATION:250 Consumer\, 250 Consumers Ave\, North York\, 加拿大
GEO:43.771837;-79.330767
X-APPLE-STRUCTURED-LOCATION;VALUE=URI;X-ADDRESS=250 Consumers Ave\, North Y
 ork\, 加拿大;X-APPLE-RADIUS=100;X-TITLE=250 Consumer:geo:43.771837,-79.
 330767
END:VEVENT
BEGIN:VTIMEZONE
TZID:America/Toronto
X-LIC-LOCATION:America/Toronto
BEGIN:DAYLIGHT
DTSTART:20220313T030000
TZOFFSETFROM:-0500
TZOFFSETTO:-0400
TZNAME:EDT
END:DAYLIGHT
END:VTIMEZONE
END:VCALENDAR