BEGIN:VCALENDAR
VERSION:2.0
PRODID:-//wp-events-plugin.com//7.2.2.1//EN
TZID:America/Toronto
X-WR-TIMEZONE:America/Toronto
BEGIN:VEVENT
UID:7@mediaconfederation.com
DTSTART;TZID=America/Toronto:20220817T011500
DTEND;TZID=America/Toronto:20220831T233000
DTSTAMP:20220819T214935Z
URL:https://mediaconfederation.com/events/cultural-performance
SUMMARY:Cultural performance
DESCRIPTION:Singing event at Markville\n\nSinging event at Markville\n\nSin
 ging event at Markville\n\nSinging event at Markville\n\nSinging event at 
 Markville\n\nSinging event at Markville
ATTACH;FMTTYPE=image/jpeg:https://mediaconfederation.com/wp-content/upload
 s/2022/08/multiracial-couple-dancing-while-resting-at-home-2022-01-12-22-2
 2-15-utc111-scaled.jpg
CATEGORIES:文艺演出
LOCATION:Markville\, 5000 Highway 7\, Markham\, 加拿大
GEO:43.86885;-79.288486
X-APPLE-STRUCTURED-LOCATION;VALUE=URI;X-ADDRESS=5000 Highway 7\, Markham\, 
 加拿大;X-APPLE-RADIUS=100;X-TITLE=Markville:geo:43.86885,-79.288486
END:VEVENT
BEGIN:VTIMEZONE
TZID:America/Toronto
X-LIC-LOCATION:America/Toronto
BEGIN:DAYLIGHT
DTSTART:20220313T030000
TZOFFSETFROM:-0500
TZOFFSETTO:-0400
TZNAME:EDT
END:DAYLIGHT
END:VTIMEZONE
END:VCALENDAR