BEGIN:VCALENDAR
VERSION:2.0
PRODID:-//wp-events-plugin.com//7.2.2.1//EN
TZID:America/Toronto
X-WR-TIMEZONE:America/Toronto
BEGIN:VEVENT
UID:44@mediaconfederation.com
DTSTART;TZID=America/Toronto:20230210T180000
DTEND;TZID=America/Toronto:20230210T210000
DTSTAMP:20230203T014346Z
URL:https://mediaconfederation.com/events/awards-show
SUMMARY:加拿大各族裔共庆农历新年暨颁奖晚会将于2月10日
 举办
DESCRIPTION:加拿大多元文化媒体联盟于2023 年2 月10 日晚上6 
 点，在新动力电视台(421 Bentley St. Unit 8\,Markham\, ON L3R 9T2)
 举行的加拿大各族裔共庆农历新年暨颁奖晚会。\n\n活动:
  加拿大各族裔共庆农历新年暨颁奖晚会\n\n日期: Feb 10th\,
  2023\, 周五\n\n时间: 6:00 - 9:00 PM\, 提供晚餐\n\n地点: 新动
 力电视台\, 421 Bentley St\, Unit 8\, Markham\, ON L3R 9T2\n\n联合举
 办: 加拿大青年委员会 &amp\; 加拿大多元文化媒体联盟\n\n
 这是加拿大青年委员会和加拿大多元文化媒体联盟联合
 举办的2023 年第一次活动，我们邀请了加拿大三级政府的
 官员和社区领袖来给为加拿大多元文化做出杰出贡献的
 个人和团体颁发奖杯。\n
CATEGORIES:活动聚会,颁奖晚宴
LOCATION:新动力演播厅\, 421 Bentley St\, Unit 8\, Markham\,  ON \, L3
 R 9T2\, 加拿大
GEO:43.829637;-79.338387
X-APPLE-STRUCTURED-LOCATION;VALUE=URI;X-ADDRESS=421 Bentley St\, Unit 8\, M
 arkham\,  ON \, L3R 9T2\, 加拿大;X-APPLE-RADIUS=100;X-TITLE=新动力
 演播厅:geo:43.829637,-79.338387
END:VEVENT
BEGIN:VTIMEZONE
TZID:America/Toronto
X-LIC-LOCATION:America/Toronto
BEGIN:STANDARD
DTSTART:20221106T010000
TZOFFSETFROM:-0400
TZOFFSETTO:-0500
TZNAME:EST
END:STANDARD
END:VTIMEZONE
END:VCALENDAR