BEGIN:VCALENDAR
VERSION:2.0
PRODID:-//wp-events-plugin.com//7.2.2.1//EN
TZID:America/Toronto
X-WR-TIMEZONE:America/Toronto
BEGIN:VEVENT
UID:5@mediaconfederation.com
DTSTART;TZID=America/Toronto:20220910T044500
DTEND;TZID=America/Toronto:20220910T093000
DTSTAMP:20220819T215029Z
URL:https://mediaconfederation.com/events/annual-celebration
SUMMARY:Annual Celebration
DESCRIPTION:Celebration Party is fun.\n\nCelebration Party is fun.\n\nCeleb
 ration Party is fun.\n\nCelebration Party is fun.\n\nCelebration Party is 
 fun.
CATEGORIES:活动聚会,颁奖晚宴
LOCATION:Scarbourgh Town Center\, 300 borough \, Scarbourgh\, 加拿大
GEO:43.776035;-79.257576
X-APPLE-STRUCTURED-LOCATION;VALUE=URI;X-ADDRESS=300 borough \, Scarbourgh\,
  加拿大;X-APPLE-RADIUS=100;X-TITLE=Scarbourgh Town Center:geo:43.776035
 ,-79.257576
END:VEVENT
BEGIN:VTIMEZONE
TZID:America/Toronto
X-LIC-LOCATION:America/Toronto
BEGIN:DAYLIGHT
DTSTART:20220313T030000
TZOFFSETFROM:-0500
TZOFFSETTO:-0400
TZNAME:EDT
END:DAYLIGHT
END:VTIMEZONE
END:VCALENDAR