BEGIN:VCALENDAR
VERSION:2.0
PRODID:-//wp-events-plugin.com//7.2.2.1//EN
TZID:America/Toronto
X-WR-TIMEZONE:America/Toronto
BEGIN:VEVENT
UID:1@mediaconfederation.com
DTSTART;TZID=Asia/Shanghai:20221015T060000
DTEND;TZID=Asia/Shanghai:20221015T073000
DTSTAMP:20221104T161615Z
URL:https://mediaconfederation.com/events/7%e6%9c%8824%e6%97%a5-%e7%ac%ac6
 %e6%9c%9f%e3%80%8a%e5%bf%ab%e4%b9%90%e5%94%b1%e6%ad%8c%e7%9b%8a%e6%99%ba%e
 5%85%bb%e7%94%9f%e6%b4%bb%e5%8a%a8%e3%80%8b%e5%8d%b3%e5%b0%86%e8%bf%9b%e8%
 a1%8c%ef%bc%81
SUMMARY:7月24日 第6期《快乐唱歌益智养生活动》即将进行
 ！
DESCRIPTION:终于，在七月中旬将要进行第六期的《快乐唱歌
 益智养生活动》。\n\n是否因为没有社交活动而感到无聊
 ？ 因为待在家里，也不知道通过什么方法来锻炼身体？\
 n\n其实，锻炼身体可是一门j讲究的学问。如果自己在家
 里无章法的练习可能会导致物极必反的效果。因此，这
 一期的不再是以zoom直播的形式进行，而是线上线下实时
 直播的形式进行。\n\n活动的内容也会如往常一样精彩纷
 呈。在活动过程中，大家将能够通过唱歌跳舞来锻炼身
 体，增强骨骼健康的。\n\n在活动的上半程，我们邀请到C
 M注册教师，中国音乐家协会会员，有丰富声乐教育经验
 的苗苗老师带领大家进行欢乐唱歌活动，唱歌过程中会
 详细解释呼吸原理，教授腹式呼吸和演唱技巧。\n\n而在
 活动的下半程，还请到了我们的老朋友青年舞蹈家李璐
 老师。璐璐老师在往期就开始教大家如何通过跳舞活动
 活动自己的筋骨，通过有氧的方式，增加自己的免疫力
 ，恢复自己的精气神。\n\n活动时间：7月24号，周日，晚
 上6点到7点半\n\n活动地点：Cadenza pianos  (20 East Beaver Creek
  Rd #105\,Richmond Hill\,ON L4B 1G6）\n\n活动内容：6点到6点45，
 苗苗老师跟大家一起练习歌曲《画你》《最远的你是我
 最近的爱》\n\n6点45到7点半，舞蹈李璐老师跟大家继续练
 习《one way ticket 》\n\n活动奖品： \n\n 	郎迪酒庄（9941LUND
 Y’SLANENiagara Falls ）提供一天一夜的贵宾住宿+品酒\n 	LCBO
 价值30元的郎迪白葡萄酒若干瓶\n 	方太厨具提供的厨夫
 人砂锅2个\n 	方太厨具专为我们中老年朋友提供美味可口
 晚餐\n\n（这次活动是线下活动，想去现场的朋友，请参
 加接龙，特别是上次没取到奖品的朋友可以去现场取，
 而且我们还会像上次线下活动一样，为大家准备一些简
 单的食物，还有很多奖品等着大家来拿，不能去现场的
 朋友我们同时也会zoom直播，也不耽误抽奖，7月24号，Cade
 nza pianos 见！！！）\n\nZOOM 线上:\n\nMeeting ID: 880 909 1411\nPa
 sscode: 12345\n\n报名条件：任何人都可以参加，55岁以上免
 费\n\n报名方式：请将您与随行亲朋好友的姓名及电话号
 码告知主办方《轻松传媒》\n\n\n\n请扫二维码入群报名\n\
 n更多活动信息，请垂询：\n\n437-982-6859\n\neasycainfo@gmail.com
 \n\n主办单位：\n轻松传媒\n\n协办单位：\n加拿大数字媒
 体发展协会 (DMDAC) \n\n赞助企业：\n郎迪酒庄\n方太集团\n
 \n鸣谢媒体：\n加国无忧\n超级生活\n华人头条\n北美财经\
 n轻享志\n资讯网\n好生活网\n\n支持单位：\n加拿大同乡会
 联合总会\n加拿大北京协会\n加拿大天津同乡会\n加拿大
 湖北同乡会\n加拿大吉林协会\n加拿大内蒙同乡会\n加拿
 大重庆协会\n加拿大浙江同乡会\n加拿大四川同乡会\n加
 拿大海南同乡会\n加拿大江苏同乡会\n加拿大云南同乡会\
 n加拿大齐鲁同乡会\n加拿大新疆同乡会\n\n太平洋迅捷旅
 游\n中华新闻社\n新天地文化中心\n加拿大国标麻将协会\n
 加拿大天妃艺术团\n世旗文化交流协会\n长江艺术团\n加
 拿大安徽国际总商会\n加拿大中国商会团体联盟\n加拿大
 安徽总商会\n加拿大河北总商会\n加拿大云南商会\n加拿
 大辽宁总商会\n加拿大黑龙江总商会\n加拿大海南国际总
 商会\n加拿大青海总商会\n加拿大浙江总商会\n加拿大湖
 北商会\n加中四川总商会\n加拿大湖南商会加拿大广东商
 会\n加拿大吉林总商会\n加拿大重庆总商会\n\n&nbsp\;
ATTACH;FMTTYPE=image/jpeg:https://mediaconfederation.com/wp-content/upload
 s/2022/11/NHSP-Poster-Funded-927x1200-1.jpg
LOCATION:Cadenza pianos\, 20 East Beaver Creek Rd #105\, Richmond Hill\, ON
 \, L4B 1G6\, 加拿大
X-APPLE-STRUCTURED-LOCATION;VALUE=URI;X-ADDRESS=20 East Beaver Creek Rd #10
 5\, Richmond Hill\, ON\, L4B 1G6\, 加拿大;X-APPLE-RADIUS=100;X-TITLE=Ca
 denza pianos:geo:0,0
END:VEVENT
BEGIN:VTIMEZONE
TZID:Asia/Shanghai
X-LIC-LOCATION:Asia/Shanghai
BEGIN:STANDARD
DTSTART:20211015T060000
TZOFFSETFROM:+0800
TZOFFSETTO:+0800
TZNAME:CST
END:STANDARD
END:VTIMEZONE
END:VCALENDAR