BEGIN:VCALENDAR
VERSION:2.0
PRODID:-//wp-events-plugin.com//7.2.2.1//EN
TZID:America/Toronto
X-WR-TIMEZONE:America/Toronto
BEGIN:VEVENT
UID:4@mediaconfederation.com
DTSTART;TZID=America/Toronto:20220724T180000
DTEND;TZID=America/Toronto:20220724T193000
DTSTAMP:20220817T145819Z
URL:https://mediaconfederation.com/events/6
SUMMARY:7月24日 第6期《快乐唱歌益智养生活动》即将进行
 ！
DESCRIPTION:终于，在七月中旬将要进行第六期的《快乐唱歌
 益智养生活动》。\n\n是否因为没有社交活动而感到无聊
 ？ 因为待在家里，也不知道通过什么方法来锻炼身体？\
 n\n其实，锻炼身体可是一门j讲究的学问。如果自己在家
 里无章法的练习可能会导致物极必反的效果。因此，这
 一期的不再是以zoom直播的形式进行，而是线上线下实时
 直播的形式进行。\n\n活动的内容也会如往常一样精彩纷
 呈。在活动过程中，大家将能够通过唱歌跳舞来锻炼身
 体，增强骨骼健康的。\n\n在活动的上半程，我们邀请到C
 M注册教师，中国音乐家协会会员，有丰富声乐教育经验
 的苗苗老师带领大家进行欢乐唱歌活动，唱歌过程中会
 详细解释呼吸原理，教授腹式呼吸和演唱技巧。\n\n而在
 活动的下半程，还请到了我们的老朋友青年舞蹈家李璐
 老师。璐璐老师在往期就开始教大家如何通过跳舞活动
 活动自己的筋骨，通过有氧的方式，增加自己的免疫力
 ，恢复自己的精气神。\n\n活动时间：7月24号，周日，晚
 上6点到7点半\n\n活动地点：Cadenza pianos  (20 East Beaver Creek
  Rd #105\,Richmond Hill\,ON L4B 1G6）\n\n活动内容：6点到6点45，
 苗苗老师跟大家一起练习歌曲《画你》《最远的你是我
 最近的爱》\n\n6点45到7点半，舞蹈李璐老师跟大家继续练
 习《one way ticket 》\n\n\n\n活动奖品： \n\n 	郎迪酒庄（9941
  LUNDY’SLANE Niagara Falls ）提供一天一夜的贵宾住宿+品酒\n
  	LCBO价值30元的郎迪白葡萄酒若干瓶\n 	方太厨具提供的
 厨夫人砂锅2个\n 	方太厨具专为我们中老年朋友提供美味
 可口晚餐\n\n（这次活动是线下活动，想去现场的朋友，
 请参加接龙，特别是上次没取到奖品的朋友可以去现场
 取，而且我们还会像上次线下活动一样，为大家准备一
 些简单的食物，还有很多奖品等着大家来拿，不能去现
 场的朋友我们同时也会zoom直播，也不耽误抽奖，7月24号
 ，Cadenza pianos 见！！！）\n\n&nbsp\;\n\n* 郎迪酒庄关爱老
 人，为活动赠送免费庄园住宿体验及葡萄酒品尝活动*\n\n
 \n\n* 9941 LUNDY’SLANE Niagara Falls *\n\n&nbsp\;\n\n* 方太集团为
 了孝敬老年人:赠送特品砂锅2只及特送上优惠卷，买方太
 产品都将优惠$50 *\n\n\n\n* 保存图片至手机，向店员展示
 就可代金消费。 *\n\n&nbsp\;\n\n* 咸氏金融为老人献爱心
 ，免费赠送5张咖啡卡*\n\n\n\n* 咖啡礼品卡：4张$50\, 1张$10
 0*\n\n&nbsp\;\n\n* 太平洋迅捷赠送老人太阳帽 *\n\n\n\n* 先到
 先得，领完为止 *\n\nZOOM 线上:\n\nMeeting ID: 880 909 1411\nPassc
 ode: 12345\n\n报名条件：任何人都可以参加，55岁以上免费\
 n\n报名方式：请将您与随行亲朋好友的姓名及电话号码
 告知主办方《轻松传媒》\n\n\n\n请扫二维码入群报名\n\n
 更多活动信息，请垂询：\n\n437-982-6859\n\neasycainfo@gmail.com\
 n\n主办单位：\n轻松传媒\n\n协办单位：\n加拿大数字媒体
 发展协会 (DMDAC) \n郎迪酒庄\n方太集团\n咸氏金融\n太平
 洋迅捷旅游
ATTACH;FMTTYPE=image/jpeg:https://mediaconfederation.com/wp-content/upload
 s/2022/08/portrait-senior-man-singing-into-microphone_484921-13469-1.jpg
CATEGORIES:活动聚会
END:VEVENT
BEGIN:VTIMEZONE
TZID:America/Toronto
X-LIC-LOCATION:America/Toronto
BEGIN:DAYLIGHT
DTSTART:20220313T030000
TZOFFSETFROM:-0500
TZOFFSETTO:-0400
TZNAME:EDT
END:DAYLIGHT
END:VTIMEZONE
END:VCALENDAR