BEGIN:VCALENDAR
VERSION:2.0
PRODID:-//wp-events-plugin.com//7.2.2.1//EN
TZID:America/Toronto
X-WR-TIMEZONE:America/Toronto
BEGIN:VEVENT
UID:2@mediaconfederation.com
DTSTART;TZID=America/Toronto:20220924T190000
DTEND;TZID=America/Toronto:20220930T203000
DTSTAMP:20220923T221545Z
URL:https://mediaconfederation.com/events/3586
SUMMARY:6月15日 《快乐唱歌益智养生活动》第四次线上活动
DESCRIPTION:\n\n\n\n\n6月15号晚上7点《快乐唱歌益智养生活动
 》第四次线上活动要来咯！ 仍然是大家熟悉的声乐老师
 苗苗和舞蹈老师李璐。 想要唱歌跳舞的快来参加吧！\n
 是否因为没有社会活动而感到无聊？\n因为老是待在家里
 ，也不知道通过什么方法来锻炼身体？\n其实，锻炼身体
 可是一门讲究的学问。如果自己在家里无章法的练习可
 能会导致物极必反的效果，这可得不偿失了。\n而《快乐
 唱歌益智养生活动》就是帮助中老年人通过即娱乐又专
 业的方法来强身健体，提高生活质量。\n此活动分为两个
 部分：\n第一个部分邀请到了RCM注册教授，中国音乐家协
 会会员苗苗老师带领大家进行欢乐的唱歌活动，唱歌过
 程中会详细的解释呼吸原理，教授腹式呼吸和演唱技巧
 ，让大家在轻松有趣的氛围中舒缓情绪，增强免疫力和
 快乐养生。\n而第二部分则是邀请到了青年舞蹈家李璐老
 师带领大家通过跳舞活动活动自己的筋骨，通过有氧的
 方式，增加自己的免疫力，恢复自己的精气神儿。\n&nbsp\
 ;\n报名条件：\n任何人都能参加，55岁以上免费\n报名方
 式：\n请将您与随行亲朋好友的姓名及电话号码告知主办
 方《轻松传媒》\n或\n请扫二维码入群报名\n\n更多活动信
 息，请垂询：\n437-982-6859\neasycainfo@gmail.com\n&nbsp\;\n活动安
 排：\n7点～7点40，苗苗老师练习唱歌“总以为来日方长
 ”\n7点40～8点10分，李璐老师带大家在zoom上练习one way tic
 ket 的舞蹈\n活动通道：\nZoom 线上： https://us02web.zoom.us/j/8
 809091411?pwd=eThKYlR4YXVlby9NbVFIREhqN0xmUT09\nMeeting ID: 880 909 1411\n
 Passcode: 12345\n**************************************************\n轻
 松传媒作为极具影响力的海外华人媒体，一直致力于提
 高中老年人社会参与感，关注中老年群体的身心健康，
 以改善中老年群体生活质量和提升幸福感为己任。\n每月
 我们会在微信群抽取10位幸运的朋友，送出由赞助商提供
 的精致的礼品！帮助大家在日常生活中循序渐进提高身
 体素质，广觅知音，健康长寿。\n活动奖品设置： \n\n报
 名均可免费领取小礼品一份 (消毒液/止鼾器/笔筒）这些
 都将免费赠送！\n活动现场我们会抽取幸运观众送出礼品
 \n微信群每月都会有惊喜抽奖！奖池丰厚到不敢想象 ！
 ！！\n\n&nbsp\;\n主办单位：轻松传媒\n协办单位：加拿大
 数字媒体发展协会 (DMDAC) \n\n\n\n\n\n\n
ATTACH;FMTTYPE=image/jpeg:https://mediaconfederation.com/wp-content/upload
 s/2022/08/Parks-Fraser-Foreshore-1.jpg
CATEGORIES:商务推广,文艺演出
LOCATION:Cadenza Piano\, 20 Easy Creed Rd\, Richmond Hill\, 加拿大
GEO:43.88284;-79.440281
X-APPLE-STRUCTURED-LOCATION;VALUE=URI;X-ADDRESS=20 Easy Creed Rd\, Richmond
  Hill\, 加拿大;X-APPLE-RADIUS=100;X-TITLE=Cadenza Piano:geo:43.88284,-7
 9.440281
END:VEVENT
BEGIN:VTIMEZONE
TZID:America/Toronto
X-LIC-LOCATION:America/Toronto
BEGIN:DAYLIGHT
DTSTART:20220313T030000
TZOFFSETFROM:-0500
TZOFFSETTO:-0400
TZNAME:EDT
END:DAYLIGHT
END:VTIMEZONE
END:VCALENDAR