BEGIN:VCALENDAR
VERSION:2.0
PRODID:-//wp-events-plugin.com//7.2.2.1//EN
TZID:America/Toronto
X-WR-TIMEZONE:America/Toronto
BEGIN:VEVENT
UID:27@mediaconfederation.com
DTSTART;TZID=America/Toronto:20221031T120000
DTEND;TZID=America/Toronto:20221031T140000
DTSTAMP:20221016T050608Z
URL:https://mediaconfederation.com/events/21
SUMMARY:安省低收入家庭电费补贴
DESCRIPTION:家庭收入和由家庭收入的2.2.0标准在安省用电或
 家庭局用帐单家庭电费管理普通家庭的普通电费使用户
 口。\n\n申请以前，你需要准备的材料：\n\n 	枫叶卡\n 	家
 庭电费单\n 	在加拿大报税时家庭所有成员的名字和生日\
 n 	家庭所有16岁以上成员的工卡号，报税回执\n\n\n费用全
 免，欲知详情，请电张女士 Bzhang@polyculture.org\n\n905-4038860
  分机号码 5232 周二、五或电话服务，周一/三/四提前电
 话预约办公室办公服务。\n\nbzhang@polyculture.org\n\n地址： 2
 225 Erin Mills Parkway Mississauga Sheridan Library 岸边
CATEGORIES:活动聚会
END:VEVENT
BEGIN:VTIMEZONE
TZID:America/Toronto
X-LIC-LOCATION:America/Toronto
BEGIN:DAYLIGHT
DTSTART:20220313T030000
TZOFFSETFROM:-0500
TZOFFSETTO:-0400
TZNAME:EDT
END:DAYLIGHT
END:VTIMEZONE
END:VCALENDAR