BEGIN:VCALENDAR
VERSION:2.0
PRODID:-//wp-events-plugin.com//7.2.2.1//EN
TZID:America/Toronto
X-WR-TIMEZONE:America/Toronto
BEGIN:VEVENT
UID:32@mediaconfederation.com
DTSTART;TZID=America/Toronto:20221030T183000
DTEND;TZID=America/Toronto:20221030T213000
DTSTAMP:20221018T224543Z
URL:https://mediaconfederation.com/events/2022
SUMMARY:2022世界重量级拳王系列争霸赛
DESCRIPTION:当今亚洲重量级拳坛的最强霸主、前WBA大洋洲冠
 军六次卫冕冠军，WBU世界重量级拳王张君龙，将于10月30
 日举行拳王系列争霸赛的第二场比赛。\n\n张君辛的职业
 曹绩20战20胜以KO率百分之百的的成绩雄踞亚洲重量级拳
 王第一的宝座，是世界重量级综合排名第17名。张君龙已
 经在5月14日获得了第一场比赛的胜利，这是亚洲人首次
 赢得加拿大重量级拳击争霸赛的擂台。\n\n活动名称：2022
 世界重量级拳王系列争霸赛\n\n组织方：\n\n世界文化艺术
 联合总会(世文联)\n龙King集团(USA)\n加拿大华人体育委员
 会\n君龙盛世体育俱乐部有限公司\n中加文化艺术协会\n\n
 支持方：\n\n多伦多华人团体联合总会\n龙兄弟拳击推广
 公司\n\n策划方：加拿大多元文化媒体联盟\n\n赛事公告会
 ：10 月 20 日下午 3:00\, Xinflix Media (421 Bentley St.\, Unit 8\, Ma
 rkham\, ON L3R 9T2)\n第二场比赛：10 月 30 日晚 6:30\, Premiere Ba
 llroom &amp\; Convention Centre (9019 Leslie St.\, Richmond Hill\, ON L4B 
 4A3)\n\n&nbsp\;
ATTACH;FMTTYPE=image/jpeg:https://mediaconfederation.com/wp-content/upload
 s/2022/10/微信图片_20221018183858.jpg
CATEGORIES:体育赛事
LOCATION:Premiere Ballroom & Convention Centre\, 9019 Leslie St.\, Richmond
  Hill\, ON\, L4B 4A3\, Richmond Hill\, \, 加拿大
GEO:43.847853;-79.382192
X-APPLE-STRUCTURED-LOCATION;VALUE=URI;X-ADDRESS=9019 Leslie St.\, Richmond 
 Hill\, ON\, L4B 4A3\, Richmond Hill\, \, 加拿大;X-APPLE-RADIUS=100;X-TI
 TLE=Premiere Ballroom & Convention Centre:geo:43.847853,-79.382192
END:VEVENT
BEGIN:VTIMEZONE
TZID:America/Toronto
X-LIC-LOCATION:America/Toronto
BEGIN:DAYLIGHT
DTSTART:20220313T030000
TZOFFSETFROM:-0500
TZOFFSETTO:-0400
TZNAME:EDT
END:DAYLIGHT
END:VTIMEZONE
END:VCALENDAR