BEGIN:VCALENDAR
VERSION:2.0
PRODID:-//wp-events-plugin.com//7.2.2.1//EN
TZID:America/Toronto
X-WR-TIMEZONE:America/Toronto
BEGIN:VEVENT
UID:20@mediaconfederation.com
DTSTART;TZID=America/Toronto:20221002T100000
DTEND;TZID=America/Toronto:20221003T140000
DTSTAMP:20220923T203523Z
URL:https://mediaconfederation.com/events/2022%e6%b1%9f%e8%8b%8f%e9%ab%98%
 e6%a0%a1%e9%87%91%e7%a7%8b%e5%98%89%e5%b9%b4%e5%8d%8e%e6%b4%bb%e5%8a%a8%e9
 %a2%84%e5%91%8a
SUMMARY:2022江苏高校金秋嘉年华活动预告
DESCRIPTION:2022年10月2日上午10点到下午5点在加拿大多伦多Mi
 lliken Park，江苏13所高校校友会将再度联手，共同举办2022
 江苏高校金秋嘉年华大型校友联欢活动。届时，大家将
 有机会欣赏到校友文艺表演、品尝天南海北美食、结交
 新朋旧友、互通工作生活资讯。\n\n扬子江畔有我们共同
 的青春记忆，那一朵美丽的茉莉花是我们心中的同一首
 歌。回望三年前的那场江南枫情，江苏高校的同学们欢
 聚一堂，共迎新春，欢歌笑语犹在心头。转眼又到枫叶
 红时，感恩一路有你，让我们金秋喜相逢，再叙江南情
 ！\n\n&nbsp\;\n\n\n\n&nbsp\;\n\n\n\n&nbsp\;\n\n此次活动宗旨为“
 无校界，一家亲“，活动意义在于增进江苏各高校校友
 （不限目前已有校友会的13家校友）之间的联谊交流，联
 络兄弟院校校友之间的感情，增强江苏高校校友之间的
 凝聚力，同时也为江苏各高校校友们搭建一个更大的信
 息交流互助平台，在丰富文化生活的同时可以有效地共
 享资源，丰富和提高大多地区江苏各高校校友的移民生
 活和工作能力。\n\n&nbsp\;\n\n2022江苏高校金秋嘉年华活动
 计划按赞助模式举办，争取找到爱心校友赞助本次活动
 的餐饮、奖品和用品，校友们可以把精力主要放在怎么
 玩得开心、有益、有趣上。目前，活动正在火热报名中
 ，我们欢迎各类爱心企业或个人参与活动赞助。\n\n&nbsp\;
 \n\n活动设冠名赞助1名，冠名赞助商拥有的权利有：开场
 时3分钟讲话；氢气球广告；颁发“加拿大中国最美校友
 ”奖牌；现场可放置易拉宝或散发商家宣传单；列入活
 动宣传poster和餐券；列入嘉年华文宣冠名赞助校友名单
 ；免费校友黄页在线宣传（仅适用于商家校友）。\n\n&nbs
 p\;\n\n活动设爱心校友赞助12名，爱心校友赞助商拥有的
 权利有：开场时1分钟讲话；氢气球广告；颁发“加拿大
 中国爱心好校友”奖牌；现场可放置易拉宝或散发商家
 宣传单；列入嘉年华文宣爱心赞助校友名单；免费校友
 黄页在线宣传（仅适用于商家校友）。\n\n&nbsp\;\n\n活动
 设友情校友赞助无数名，友情校友赞助商拥有的权利有
 ：开场时主持人介绍鸣谢；现场可放置易拉宝或散发商
 家宣传单；列入嘉年华文宣友情赞助校友名单；免费校
 友黄页在线宣传（仅适用于商家校友）。\n\n&nbsp\;\n\n有
 意为2022江苏高校金秋嘉年华活动提供赞助的校友请与各
 校友会会长联系，赞助资金到账方式可以E-transfer到njufund
 @gmail.com，也可以开支票给Nanjing University Alumni Association of
  the Great Toronto Area.\n\n&nbsp\;\n\n参加2020江苏高校迎新联欢
 会和本次2022江苏高校金秋嘉年华活动的江苏高校校友会
 是：\n\n&nbsp\;\n\n南京大学大多伦多地区校友会\n\n东南大
 学多伦多校友会\n\n南京邮电大学加拿大校友会\n\n南京理
 工大学加拿大校友会\n\n南京工业大学加拿大校友会\n\n南
 京航空航天大学多伦多校友会\n\n南京医科大学加拿大校
 友会\n\n河海大学多伦多校友会\n\n南京师范大学加拿大校
 友会\n\n苏州大学加拿大校友会\n\n苏州科技大学加拿大校
 友会\n\n江南大学北美校友会\n\n江苏大学加拿大校友会\n\
 n&nbsp\;\n\n&nbsp\;\n\n\n\n&nbsp\;\n\n\n\n&nbsp\;\n\n\n\n&nbsp\;\n\n\n\n&n
 bsp\;\n\n\n\n\n\n\n&nbsp\;\n\n\n\n&nbsp\;\n\n\n\n&nbsp\;\n\n\n\n&nbsp\;\n\
 n\n\n&nbsp\;\n\n\n\n&nbsp\;\n\n&nbsp\;
ATTACH;FMTTYPE=image/jpeg:https://mediaconfederation.com/wp-content/upload
 s/2022/09/631bc7c1ead0a.jpg
CATEGORIES:活动聚会
END:VEVENT
BEGIN:VTIMEZONE
TZID:America/Toronto
X-LIC-LOCATION:America/Toronto
BEGIN:DAYLIGHT
DTSTART:20220313T030000
TZOFFSETFROM:-0500
TZOFFSETTO:-0400
TZNAME:EDT
END:DAYLIGHT
END:VTIMEZONE
END:VCALENDAR