BEGIN:VCALENDAR
VERSION:2.0
PRODID:-//wp-events-plugin.com//7.2.2.1//EN
TZID:America/Toronto
X-WR-TIMEZONE:America/Toronto
BEGIN:VEVENT
UID:24@mediaconfederation.com
DTSTART;TZID=America/Toronto:20220918T000000
DTEND;TZID=America/Toronto:20220918T000000
DTSTAMP:20220923T215008Z
URL:https://mediaconfederation.com/events/%e9%a6%96%e9%83%a8%e5%8e%9f%e5%8
 8%9b%e5%84%bf%e7%ab%a5%e6%83%85%e6%99%af%e5%89%a7%e3%80%8a%e4%b8%8e%e5%8f%
 a3%e9%a6%99%e7%b3%96%e5%85%b1%e8%88%9e%e3%80%8b%e5%bc%80%e6%8b%8d
SUMMARY:首部原创儿童情景剧《与口香糖共舞》开拍
DESCRIPTION:无论是哪个种族，无论是什么肤色，无论说什么
 样的语言，全世界人民只有一个家，那就是地球。\n\n如
 何让这个家没有战争，没有污染，是我们全人类关注的
 问题。\n\n如何提高青少年的环保意识？又以什么样的艺
 术形式，让孩子们参与其中？\n\n近日由加拿大国际大爱
 精英联盟，加拿大小象传媒共同发起\n\n加拿大LV国际传
 媒、香港国际卫视、加拿大演艺联盟、加拿大“看北美
 ”视频直播平台、加拿大 阶梯启发潜能教育中心、加拿
 大儿童广播艺术团、加拿大木偶剧团、北美视频协会等
 机构协办、海内外近百家社会团体及媒体联动支持。\n\n\
 n\n\n\n\n\n\n\n\n国际知名出品人、制片人、导演编剧、舞美
 、制作公司共同打造少儿魔幻穿越环保剧《与口香糖共
 舞》开拍仪式在Fairacre Garden(明远花园)举行。\n\n《与口
 香糖共舞》改编自著名主持人，少儿文学专栏作家Masha女
 士的原创小说《穿越未来之污染的怒吼》，该书已在加
 拿大和中国火爆出版，本书还入选福建省2022年“暑假读
 一本好书”活动推荐书目。\n\n\n\n\n\n\n\n\n\n这个舞台剧共
 有十几个角色，分别为人物、小动物，口香糖怪物等。 
 共有来自不同年龄段，不同国家的小朋友参演。\n\n在现
 场 ，小演员们煞有介事地在用黄色的小花铺出的草坪上
 ，伴着入场音乐，走到签字墙签字。并接受本次演出的
 艺术顾问和导演，加拿大演艺联盟主席张炜导演、运营
 总监Emily、加拿大话剧演员Olga Loginova 颁发的聘书。\n\n每
 个小演员在现场即兴发言，表达了他们对自己角色的喜
 爱以及对环保的理解。\n\n\n\n\n\n\n\n\n\n\n\n\n\n故事讲述了
 萨沙，米沙和玛莎，三个初中生，有一天不小心按动了
 学校操场后面废旧钟楼里面的按钮，穿越到未来世界。
 经历了许多惊心动魄的故事。他们看到了当下人类不爱
 护环境，不关爱地球，肆意践踏，导致未来的灾难和人
 类的变异。\n\n该剧制作团队强大，中国著名导演，主持
 人那威先生，著名相声表演艺术家姜昆老师加盟本剧作
 为特别艺术指导。\n\n小演员的阵容也非常强大，年龄从6
 岁到15岁，多才多艺，他们中有拉丁舞大赛冠军，水立方
 歌唱比赛冠军，模特大赛冠军，舞蹈冠军，少年领袖精
 英，他们充满激情，怀揣着对戏剧的热爱，他们愿意用
 自己的表演让更多人知道，当下保护地球，杜绝污染，
 未来世界将是一个美丽的家园。\n\n\n\n\n\n\n\n\n\n\n\n\n\n\n\n
 该情景剧，到目前为止，已经获得加拿大各方组织和企
 业的支持，感谢Skyreach Group Inc天籁门窗，FOTILE 方太，
 住家网，加拿大加中友谊发展促进会，他们愿意为环保
 事业，为青少年的戏剧梦想尽一己之力。\n\n欢迎更多的
 个人和企业加入进来，成为关注少年儿童素质教育以及
 环保公益事业的先锋。\n\n让世界，让地球变得纯净。\n\n
 这台情景剧将于2022年9月18日巨献。
ATTACH;FMTTYPE=image/jpeg:https://mediaconfederation.com/wp-content/upload
 s/2022/09/01-4.jpg
CATEGORIES:文艺演出
END:VEVENT
BEGIN:VTIMEZONE
TZID:America/Toronto
X-LIC-LOCATION:America/Toronto
BEGIN:DAYLIGHT
DTSTART:20220313T030000
TZOFFSETFROM:-0500
TZOFFSETTO:-0400
TZNAME:EDT
END:DAYLIGHT
END:VTIMEZONE
END:VCALENDAR