BEGIN:VCALENDAR
VERSION:2.0
PRODID:-//wp-events-plugin.com//7.2.2.1//EN
TZID:America/Toronto
X-WR-TIMEZONE:America/Toronto
BEGIN:VEVENT
UID:21@mediaconfederation.com
DTSTART;TZID=America/Toronto:20220917T110000
DTEND;TZID=America/Toronto:20220917T160000
DTSTAMP:20220923T230246Z
URL:https://mediaconfederation.com/events/%e7%bd%91%e4%b8%8a%e4%bd%9b%e5%a
 d%b8%e5%9f%ba%e7%a4%8e%e8%aa%b2%e7%a8%8b%e5%8f%8a%e9%80%b2%e4%bf%ae%e7%8f%
 ad
SUMMARY:网上佛學基礎課程及進修班
DESCRIPTION:网上报名： www.onbds.org\n或者： https://docs.google.
 com/forms/d/e/1FAIpQLSfy4bR0dmlpkhiQU-i61l-BpziGdrnV6AkPtLE1ZfIy4drHXQ/vie
 wform\n\n\n\n\n\n&nbsp\;\n\n&nbsp\;\n\n
ATTACH;FMTTYPE=image/jpeg:https://mediaconfederation.com/wp-content/upload
 s/2022/09/62e8e2b6485f6.jpg
CATEGORIES:活动聚会
END:VEVENT
BEGIN:VTIMEZONE
TZID:America/Toronto
X-LIC-LOCATION:America/Toronto
BEGIN:DAYLIGHT
DTSTART:20220313T030000
TZOFFSETFROM:-0500
TZOFFSETTO:-0400
TZNAME:EDT
END:DAYLIGHT
END:VTIMEZONE
END:VCALENDAR