BEGIN:VCALENDAR
VERSION:2.0
PRODID:-//wp-events-plugin.com//7.2.2.1//EN
TZID:America/Toronto
X-WR-TIMEZONE:America/Toronto
BEGIN:VEVENT
UID:15@mediaconfederation.com
DTSTART;TZID=America/Toronto:20220924T110000
DTEND;TZID=America/Toronto:20220924T210000
DTSTAMP:20220923T205612Z
URL:https://mediaconfederation.com/events/%e7%ac%ac%e4%ba%8c%e5%8d%81%e4%b
 8%80%e5%b1%8a%e8%ad%a6%e6%b0%91%e5%90%8c%e4%b9%90%e6%97%a5
SUMMARY:第二十一届警民同乐日
DESCRIPTION:密西沙加华商会\n活动名称 : 第二十一届警民同
 乐日\n日期：2022年9月24日（星期六）\n时间：上午11:00至
 晚上9:00\n地点：Mississauga Celebration Square（密市市府广场
 ）\,300 City Centre Drive\, Mississauga\n费用: 免费入場\n查询电
 话 ：905-625-6222\n\n内容： 第二十一届警民同乐日是由密
 ⻄沙加华商会主办，⽪尔区警察局 (Peel Regional Police) 协
 办。今年活动的主题包括: 密市美食节、迷你⾳乐会、Pok
 émon 主题食物饮品、花灯节。 ⼤会特别在晚上6时半举⾏
 燃点花灯仪式，并免费派发近二千个灯笼给入场⼈⼠。\n
 \n⽪尔区警察各部⾨、消防局、圣约翰救伤队、各社区组
 织及商户，均派出代表参与展出摊位，市⺠除可借此机
 会认识警队各部⾨之运作外，还可获得有关网上安全、
 防⽌欺凌、 家居及道路安全等资讯和纪念赠品。\n\n会场
 上还有适合儿童之充气游戏、画脸、扭气球等活动。表
 演节⽬包括：多元文化⾳乐舞蹈、传统舞狮、中国旗袍
 表演、古筝及琵琶表演等。今年还增设每小时幸运大抽
 奖，奖品非常丰富。欢迎各界人士免费入场参加。
CATEGORIES:活动聚会
LOCATION:密市市府广场\, 300 City Centre Drive\, \, Mississauga\, ON\,
  L5B 3C9\, 加拿大
GEO:43.588376;-79.645006
X-APPLE-STRUCTURED-LOCATION;VALUE=URI;X-ADDRESS=300 City Centre Drive\, \, 
 Mississauga\, ON\, L5B 3C9\, 加拿大;X-APPLE-RADIUS=100;X-TITLE=密市
 市府广场:geo:43.588376,-79.645006
END:VEVENT
BEGIN:VTIMEZONE
TZID:America/Toronto
X-LIC-LOCATION:America/Toronto
BEGIN:DAYLIGHT
DTSTART:20220313T030000
TZOFFSETFROM:-0500
TZOFFSETTO:-0400
TZNAME:EDT
END:DAYLIGHT
END:VTIMEZONE
END:VCALENDAR