BEGIN:VCALENDAR
VERSION:2.0
PRODID:-//wp-events-plugin.com//7.2.2.1//EN
TZID:America/Toronto
X-WR-TIMEZONE:America/Toronto
BEGIN:VEVENT
UID:37@mediaconfederation.com
DTSTART;TZID=America/Toronto:20221013T010000
DTEND;TZID=America/Toronto:20221013T020000
DTSTAMP:20221018T225949Z
URL:https://mediaconfederation.com/events/%e7%a4%be%e5%8c%ba%e7%a7%bb%e6%b
 0%91%e6%9c%8d%e5%8a%a1%e5%8a%9e%e5%85%ac%e5%ae%a4%e5%85%8d%e8%b4%b9%e5%a1%
 ab%e5%86%99%e7%9b%b8%e5%85%b3%e8%a1%a8%e6%a0%bc
SUMMARY:社区移民服务办公室免费填写相关表格
DESCRIPTION:社区移民服务办公室为符合条件的低收入家庭填
 写相关服务表格，如孩子牙医服务申请表，政府公屋，
 孩子牛奶金，等等，详情请跟Jane Luo 联系，电话647-250-923
 8 或416-863-0499 分机2051， 谢谢！\n\nJane Luo\n\nDixon Hall Neighb
 ourhood Services
CATEGORIES:论坛讲座
END:VEVENT
BEGIN:VTIMEZONE
TZID:America/Toronto
X-LIC-LOCATION:America/Toronto
BEGIN:DAYLIGHT
DTSTART:20220313T030000
TZOFFSETFROM:-0500
TZOFFSETTO:-0400
TZNAME:EDT
END:DAYLIGHT
END:VTIMEZONE
END:VCALENDAR