BEGIN:VCALENDAR
VERSION:2.0
PRODID:-//wp-events-plugin.com//7.2.2.1//EN
TZID:America/Toronto
X-WR-TIMEZONE:America/Toronto
BEGIN:VEVENT
UID:28@mediaconfederation.com
DTSTART;TZID=America/Toronto:20221030T100000
DTEND;TZID=America/Toronto:20221030T120000
DTSTAMP:20221016T050809Z
URL:https://mediaconfederation.com/events/%e6%96%b0%e7%a7%bb%e6%b0%91%e5%8
 5%8d%e8%b4%b9%e8%ae%a4%e8%af%81%e7%bf%bb%e8%af%91%e5%8f%a3%e8%af%91%e6%9c%
 8d%e5%8a%a1
SUMMARY:新移民免费认证翻译口译服务
DESCRIPTION:新到枫叶加国，您是否因为语言及或者缺乏加国
 经历难以就业，又需要各种认证翻译的辅助呢？您需要
 口译帮助吗？爱儿达社区特推出认证翻译+预约口译服务
 ，免费帮助新移民解除语言翻译等生活急需的最佳服务
 。联邦政府移民部全额资助项目，请携枫叶卡或登陆纸
 信息与我们联系。配额有限，请尽快预约报名。\n\n咨询
 电话： 647-531-1680\n\n电邮：jwan@ldatd.on.ca\n
CATEGORIES:论坛讲座
END:VEVENT
BEGIN:VTIMEZONE
TZID:America/Toronto
X-LIC-LOCATION:America/Toronto
BEGIN:DAYLIGHT
DTSTART:20220313T030000
TZOFFSETFROM:-0500
TZOFFSETTO:-0400
TZNAME:EDT
END:DAYLIGHT
END:VTIMEZONE
END:VCALENDAR