BEGIN:VCALENDAR
VERSION:2.0
PRODID:-//wp-events-plugin.com//7.2.2.1//EN
TZID:America/Toronto
X-WR-TIMEZONE:America/Toronto
BEGIN:VEVENT
UID:23@mediaconfederation.com
DTSTART;TZID=America/Toronto:20220914T110000
DTEND;TZID=America/Toronto:20220921T120000
DTSTAMP:20220923T213750Z
URL:https://mediaconfederation.com/events/%e6%96%b0%e7%a7%bb%e6%b0%91%e5%8
 5%8d%e8%b4%b9%e7%be%8e%e6%9c%af%e8%8b%b1%e8%af%ad%e8%af%be
SUMMARY:新移民免费美术英语课
DESCRIPTION:为了帮助新移民在轻松的环境中学习并练习英文
 ，爱尔达社区特邀你参加免费美术英文。画个美好的记
 忆，描个展望的梦想，把焦虑抛开，英语练起来，每两
 周的周二11点-12点时间，特邀卡尔加里艺术家Palak 网上开
 设英文美术课，通过美术，疏解焦虑，学习英语，暂定
 夏季时间开设，欢迎新移民报名免费参加。\n\n首次活动
 时间：6月7日（周二）上午11:00am-12:00pm\n\n地点：网上zoom
  会议。\n\n联邦政府移民部下设项目，费用全免。名额
 有限，请携枫叶卡或登陆纸尽快报名。\n\n参加人员：持
 枫叶卡或者登陆纸的新移民。\n\n报名联系方式：647-531-16
 80 万女士，如发信息留言，请清晰留下您的姓名与回电
 号码。\n\n电邮：jwan@ldatd.on.ca\n\n\n
ATTACH;FMTTYPE=image/jpeg:https://mediaconfederation.com/wp-content/upload
 s/2022/09/629e1d08a995a.jpg
CATEGORIES:活动聚会
END:VEVENT
BEGIN:VTIMEZONE
TZID:America/Toronto
X-LIC-LOCATION:America/Toronto
BEGIN:DAYLIGHT
DTSTART:20220313T030000
TZOFFSETFROM:-0500
TZOFFSETTO:-0400
TZNAME:EDT
END:DAYLIGHT
END:VTIMEZONE
END:VCALENDAR