BEGIN:VCALENDAR
VERSION:2.0
PRODID:-//wp-events-plugin.com//7.2.2.1//EN
TZID:America/Toronto
X-WR-TIMEZONE:America/Toronto
BEGIN:VEVENT
UID:14@mediaconfederation.com
DTSTART;TZID=America/Toronto:20220909T070000
DTEND;TZID=America/Toronto:20220909T080000
DTSTAMP:20220906T194925Z
URL:https://mediaconfederation.com/events/%e5%a8%81%e6%96%af%e5%ad%a6%e9%9
 9%a2%e8%ae%b2%e5%ba%a7%ef%bc%9aib%e5%9b%9b%e5%b9%b4%e8%a7%84%e5%88%92%ef%b
 c%8c%e5%ad%a6%e4%b8%9a%e4%b8%8e%e4%b8%aa%e4%ba%ba%e6%88%90%e9%95%bf%e5%b9%
 b6%e8%bf%9b
SUMMARY:威斯学院讲座：IB四年规划，学业与个人成长并进
DESCRIPTION:威斯学院讲座\n\n主讲人：HELEN J\n\n 	IB优秀毕业
 生\,99.5%均分，六门IB课程满分\n 	MEDICAL SCIENCES大四学生，
 CPA 4/4\n 	艺术\,法语\,数学\,社会活动\,奖学金等多项奖项
 获得者\n\n讲座时间：(EST) 7:00-8:30pmf Fri.f Sept. 9th\n加东美
 东时间9月9日周五晚7:00-8:30\n\n讲座要点\n\n 	IB课程体系(
 核心模块、课程分类、IBvs\n 	IB课程打分，课程选择，分
 数转换\n 	课外活动，CAS(CreativityActivity Service)\n 	IB与大学
 申请\n 	高中与大学学习和生活规划\n\n关于威斯 Wells Acade
 my\n\n 	多大教育博士与资深持牌教师共同成立与管理\n 	
 立足北美，六年市场考验，4C教育理念\n 	Gr.1-12英文演讲
 、写作、法语、科学、数学、编程等小班课程及一对一
 辅导课程\n 	学业规划与院校申请(顶私，大学与研究生院
 )\n 	IELTS.SAT\, SSAT等标准化语言培训\n 	读书俱乐部及公益
 教育讲座\n\n地址：7030 Woodbine Ave.Markham\n网址：wellsacademy.
 ca\n电话：647 560 6398\n邮箱： wellsacademy.ca@gmail.com
CATEGORIES:活动聚会
LOCATION:威斯学院\, 7030 Woodbine Ave. Markham\, Markham\,  ON \, L3R 6
 G2\, 加拿大
GEO:43.814282;-79.35034
X-APPLE-STRUCTURED-LOCATION;VALUE=URI;X-ADDRESS=7030 Woodbine Ave. Markham\
 , Markham\,  ON \, L3R 6G2\, 加拿大;X-APPLE-RADIUS=100;X-TITLE=威斯
 学院:geo:43.814282,-79.35034
END:VEVENT
BEGIN:VTIMEZONE
TZID:America/Toronto
X-LIC-LOCATION:America/Toronto
BEGIN:DAYLIGHT
DTSTART:20220313T030000
TZOFFSETFROM:-0500
TZOFFSETTO:-0400
TZNAME:EDT
END:DAYLIGHT
END:VTIMEZONE
END:VCALENDAR