BEGIN:VCALENDAR
VERSION:2.0
PRODID:-//wp-events-plugin.com//7.2.2.1//EN
TZID:America/Toronto
X-WR-TIMEZONE:America/Toronto
BEGIN:VEVENT
UID:10@mediaconfederation.com
DTSTART;TZID=America/Toronto:20220907T183000
DTEND;TZID=America/Toronto:20220907T210000
DTSTAMP:20220906T213550Z
URL:https://mediaconfederation.com/events/%e5%a4%a9%e4%b8%8b%e5%8d%8e%e4%b
 a%ba%e4%b8%80%e5%ae%b6%e4%ba%b2%e4%b8%ad%e7%a7%8b%e8%81%94%e8%b0%8a%e4%bc%
 9a%e9%82%80%e8%af%b7%e5%87%bd
SUMMARY:“天下华人一家亲”中秋联谊会邀请函
DESCRIPTION:本联盟兹定于2022 年9 月7 日晚6 时30 分在新动力
 传媒集团电视台演播厅，举行2022 中秋\n联谊晚会，地址
 ：421 Bentley St. Unit 8\, Markham\, ON L3R 9T2。\n晚会的主题是：
 天下华人一家亲。\n本联盟所属50 余家中英文媒体的百余
 名媒体工作者将参加本次联欢会。晚会将邀请大多地区\n
 三级政府代表，2022 大多地区各市选候选人，各族裔社团
 代表，社区知名人士与会。\n\n\n晚会内容：\n1、嘉宾致
 辞\n2、各市选候选人与大家见面并自我介绍\n3、文艺表
 演\n4、中秋晚餐、祝酒、品尝月饼\n感谢加拿大百万酒业
 赞助晚宴用酒：中国贵州酱香经典匀酒。
ATTACH;FMTTYPE=image/jpeg:https://mediaconfederation.com/wp-content/upload
 s/2022/09/festive-dinner-at-the-restaurant-2022-01-18-23-43-26-utc111.jpg
CATEGORIES:颁奖晚宴
LOCATION:Xinflix Media\, 421 Bentley St. Unit 8\, Markham\, ON L3R 9T2\, Ma
 rkham\, 加拿大
GEO:43.829622;-79.338398
X-APPLE-STRUCTURED-LOCATION;VALUE=URI;X-ADDRESS=421 Bentley St. Unit 8\, Ma
 rkham\, ON L3R 9T2\, Markham\, 加拿大;X-APPLE-RADIUS=100;X-TITLE=Xinfli
 x Media:geo:43.829622,-79.338398
END:VEVENT
BEGIN:VTIMEZONE
TZID:America/Toronto
X-LIC-LOCATION:America/Toronto
BEGIN:DAYLIGHT
DTSTART:20220313T030000
TZOFFSETFROM:-0500
TZOFFSETTO:-0400
TZNAME:EDT
END:DAYLIGHT
END:VTIMEZONE
END:VCALENDAR