BEGIN:VCALENDAR
VERSION:2.0
PRODID:-//wp-events-plugin.com//7.2.2.1//EN
TZID:America/Toronto
X-WR-TIMEZONE:America/Toronto
BEGIN:VEVENT
UID:19@mediaconfederation.com
DTSTART;TZID=America/Toronto:20220924T100000
DTEND;TZID=America/Toronto:20220924T140000
DTSTAMP:20220923T203539Z
URL:https://mediaconfederation.com/events/%e5%a4%9a%e4%bc%a6%e5%a4%9a%e4%b
 a%a4%e5%93%8d%e4%b9%90%e5%9b%a2-tso-%e5%ba%86100-%e5%91%a8%e5%b9%b4%e4%b8%
 be%e5%8a%9e%e5%85%8d%e8%b4%b9%e9%9f%b3%e4%b9%90%e4%bc%9a
SUMMARY:多伦多交响乐团 (TSO) 庆100 周年举办免费音乐会
DESCRIPTION:2022 年 9 月 24 日（星期六），多伦多交响乐团
 （Toronto Symphony Orchestra，简称 TSO）邀请所有多伦多居民
 到罗伊汤姆森音乐厅（Roy Thomson Hall，位于 60 Simcoe 街）
 参与万众期待的 TSO100 周年庆典活动：全面开放日及免
 费音乐会。\n\n为庆祝这座城市的多元化发展以及乐团服
 务多伦多 100 年，TSO 将为大家献上由当地多元文化乐团
 的高水准合奏，这场演出供大家免费欣赏。另外，TSO 还
 将带来以音乐为主题的表演和活动，一定会让您流连忘
 返。\n\n“我们是属于您的乐团，是服务于您的——因此
 ，更好地了解多伦多居民，这对我们所做的工作至关重
 要。” TSO 行政总裁 Mark Williams 继续说道， “无论您想
 留下欣赏免费音乐会，还是沉浸在我们全天活动中，我
 们都希望所有的多伦多居民都能感受到最热情的款待。
 ”\n\nTSO 正以增进与社区互动的方向来编排其曲目并设
 计活动，旨在突出对城市具有重要意义的艺术家与主题
 。同时，还希望吸引以往参与度较少的不同族裔群体前
 来，让他们在这些特色艺术家的身上看到不同文化的缩
 影。通过这一天的活动，他们可以和 TSO 以及音乐厅的
 场馆建立意义非凡的联系。\n\n\n\nTSO100 周年：开放日及
 免费音乐会的活动流程\n\n&nbsp\;\n\n全面开放日：TSO 将欢
 迎游客于上午 10 点至下午 2 点期间到罗伊汤姆森音乐
 厅体验全面开放日——这项活动能让不同背景和年龄的
 多伦多居民庆祝并了解他们的乐团。与此同时，本次开
 放日将会为大家推荐一系列来自多元文化背景的艺术家
 ，包括：\n\n&nbsp\;\n\n 	Winston “Pappy” Frederick：这位出生
 于特立尼达的钢鼓艺术家、音乐制作人和教师，他将会
 分享自己对这种标志性乐器的领悟和热情\n 	Iranian-Canadian
  Composers of Toronto (ICOT)﹕ICOT 将演奏伊朗艺术家迷人旋律
 的钢琴作品，通过音乐和艺术将加拿大和伊朗的文化联
 系起来\n 	Medusa：这个全女性的室内民谣合奏团将会把斯
 堪的纳维亚、东欧、中东和凯尔特的音乐交织出一场扣
 人心弦的弦乐表演\n 	Toronto Symphony Youth Orchestra (TSYO) – 
 观众将能够聆听 TSYO 旗下音乐家演奏莫扎特（Mozart）、
 德沃夏克（Dvořák）等人的作品\n 	TSO 的音乐家 – 多
 伦多居民将能体验由艺术家 Pierre Rivard 演绎深受喜爱的
 儿童故事Kiwis Can't Play the Violin，并有 TSO 音乐家参与\n\n\
 n\n\n除此之外，还有一系列围绕乐团体验的有趣活动，从
 创作自己的乐谱工作坊到 TSO 的教育和社区参与团队（Ed
 ucation &amp\; Community Engagement team）主办的乐器探索区 、
 建筑导赏团以及庆祝 TSO100 周年传奇历史的展览，不同
 年龄的参观者都可以在此规划一整天的行程，随时参与
 其中。完整的活动信息可参考TSO.CA/openhouse。另外，本次
 开放日可直接进场参观。\n\n&nbsp\;\n\n罗伊汤姆森音乐厅
 午后免费音乐会：这场音乐会将由 TSO 的 Barrett 首席教
 育指挥兼社区大使（Barrett Principal Education Conductor &amp\; Co
 mmunity Ambassador）Daniel Bartholomew-Poyser 主持，他将在舞台
 上与观众互动——介绍作品，分享趣闻和音乐剧的内容
 ，例如，作曲家、艺术家和交响乐团的详情。另外，TSO 
 的音乐总监（Music Director）Gustavo Gimeno 专门制作了一份
 融汇混合曲目的精彩节目表，在庆祝百年成就的同时，
 又彰显了这城市的多样性——这正是他领导下极具标志
 性风格的 TSO 节目表。\n\n\n\n这场充满魅力的免费音乐会
 ，时长为一小时，将于开放日的下午 2 点开始，观众们
 需提前预订座位。门票将于 2022 年 9 月 15 日星期四开
 始对外开放领取。欲了解有关完整的活动流程以及有关 R
 SVP 和预订门票的更多信息，请浏览：https://www.tso.ca/concer
 ts-and-events/events/open-house-and-free-concert/ 。\n\n\n\nTSO 深信
 ，令人如痴如醉的艺术感染力能吸引许多初次体验的观
 众，让他们能亲身感受乐团现场表演所带来深远的陶染
 。\n\n关于 TSO：作为加拿大推崇备至的艺术组织之一，多
 伦多交响乐团将在 2022/23 年庆祝其百年成就：这 100 年
 以来，在这座多元文化的城市中一直担当着至关重要的
 角色。音乐总监 Gustavo Gimeno 将广博的艺术远见、求知欲
 和冒险精神带入了由 93 位音乐家组成的交响乐团的编排
 中。与此同时，TSO 致力于通过充满活力的演出、广泛的
 教育活动和具有影响力的社区关系为本地和全国的社区
 服务。而且，它拥有著名的录制和传播历史，并在其多
 次巡回演出中享誉国际。TSO 也成为了音乐多样性和发展
 ，以及卓越艺术特性的代表。\n\nTSO100 周年的资金提供
 ：开放日和免费音乐会由加拿大政府和 Ontario Cultural Attra
 ctions Fund 赞助，并得到 Canada Council for the Arts、Ontario Arts
  Council、Toronto Arts Council 以及 Toronto Symphony Foundation 的
 额外支持。同时，TSO 表彰 Mary Beck 为永远的音乐家赞
 助人（the Musicians’ Patron in perpetuity），以感谢她长期以
 来的慷慨支持。另外，BMO 金融集团（BMO Financial Group）
 为 TSO 的季度赞助商。TSO 还要感谢 Toronto Symphony Foundatio
 n 及各政府部门的支持，包括 Canada Council for the Arts、Onta
 rio Arts Council、Toronto Arts Council、加拿大政府和安省政府
 的支持。\n\n&nbsp\;
ATTACH;FMTTYPE=image/jpeg:https://mediaconfederation.com/wp-content/upload
 s/2022/09/6324bcf6d3ac4.jpg
END:VEVENT
BEGIN:VTIMEZONE
TZID:America/Toronto
X-LIC-LOCATION:America/Toronto
BEGIN:DAYLIGHT
DTSTART:20220313T030000
TZOFFSETFROM:-0500
TZOFFSETTO:-0400
TZNAME:EDT
END:DAYLIGHT
END:VTIMEZONE
END:VCALENDAR