BEGIN:VCALENDAR
VERSION:2.0
PRODID:-//wp-events-plugin.com//7.2.2.1//EN
TZID:America/Toronto
X-WR-TIMEZONE:America/Toronto
BEGIN:VEVENT
UID:16@mediaconfederation.com
DTSTART;TZID=America/Toronto:20220919T000000
DTEND;TZID=America/Toronto:20220919T000000
DTSTAMP:20220906T195412Z
URL:https://mediaconfederation.com/events/%e5%8d%8e%e8%b0%98%e5%a4%84%e8%b
 f%90%e5%8a%a8%e5%81%a5%e5%ba%b7%e8%ae%b2%e5%ba%a7%e7%b3%bb%e5%88%97-%e8%ba
 %ab%e4%bd%93%e6%b1%82%e6%95%91%e8%ae%af%e5%8f%b7%e4%b9%8b%e5%a4%b4%e9%83%a
 8%e7%af%87
SUMMARY:华谘处运动健康讲座系列 – 身体求救讯号之头部
 篇。
DESCRIPTION:移民综合服务中心\n\n内容:\n由郑心依医师现场
 讲解-\n– 解码讯号的来源\n– 导致有疼痛的原因\n– 如
 何改善、舒缓身体带来的不适\n\n# 配有现场运动示范\n# 
 同场有即时ZOOM直播\n\n日期: 2022-09-19 (星期一)\n时间: 上
 午 10:00 – 11:30\n语言: 广东话\n地点: Welcome Centre Markham Sou
 th\n7220 Kennedy Rd\, Unit 8\, Markham\, ON\, L3R 7P2\n报名及查询 : 9
 05-479-7926 or wingsze.li@welcomecentre.ca
END:VEVENT
BEGIN:VTIMEZONE
TZID:America/Toronto
X-LIC-LOCATION:America/Toronto
BEGIN:DAYLIGHT
DTSTART:20220313T030000
TZOFFSETFROM:-0500
TZOFFSETTO:-0400
TZNAME:EDT
END:DAYLIGHT
END:VTIMEZONE
END:VCALENDAR