BEGIN:VCALENDAR
VERSION:2.0
PRODID:-//wp-events-plugin.com//7.2.2.1//EN
TZID:America/Toronto
X-WR-TIMEZONE:America/Toronto
BEGIN:VEVENT
UID:13@mediaconfederation.com
DTSTART;TZID=America/Toronto:20220910T020000
DTEND;TZID=America/Toronto:20220910T050000
DTSTAMP:20220906T194627Z
URL:https://mediaconfederation.com/events/%e5%8a%a0%e6%8b%bf%e5%a4%a7%e4%b
 8%ad%e5%9b%bd%e7%ac%94%e4%bc%9a%e5%a4%a7%e8%ae%b2%e5%a0%82%ef%bc%9a%e4%b9%
 a6%e9%a6%99%e6%96%87%e5%bf%83%e6%98%a0%e6%98%8e%e6%9c%88%e7%9f%a5%e5%90%8d
 %e4%bd%9c%e5%ae%b6
SUMMARY:加拿大中国笔会大讲堂：书香文心映明月知名作家
 与你面对面
DESCRIPTION:满掌彩书拂胸口，遍地秋月凝不流。加中笔会特
 选中秋佳节（9月10日，周六）的美好日子，在“中文书
 城”举办第三次大讲堂。知名作家李彦、陈河、文章、
 孙博将分享创作心得，书城负责人Diana将介绍最新图书出
 版信息。活动免费对外开放，欢迎广大文学爱好者踊跃
 出席，共襄盛举。\n\n本次活动由副会长雪犁、事务部长
 子卿担任总策划，副会长西风负责宣传，秘书长李静明
 、宣传部长邓思杰等协调。\n\n据当天活动主持人雪犁表
 示，诸多作家将展示自己的中英文作品，包括李彦、陈
 河、文章、孙博、枫舟、姜尼、李果平、彧蛇、程炯、
 张立国、蔚小建等。活动还设有问答时间、签名售书等
 环节。\n\n\n\n&nbsp\;\n\n李彦演讲主题：朱碧丽的涵义\n\n李
 彦，北京人。1987年毕业于中国社会科学院新闻系，同年
 赴加拿大留学。1997年起在滑铁卢大学执教，现任文化及
 语言研究系中文教研室主任。2007年起兼任滑铁卢孔子学
 院院长，长期致力于促进中外文化交流。1985年起从事中
 英文创作、翻译。曾获多个文学奖项。主要作品包括英
 文长篇小说《红浮萍》《雪百合》；中文长篇小说《海
 底》《嫁得西风》；纪实文学《兰台遗卷》《不远万里
 》；作品集《尺素天涯》《吕梁箫声》《羊群》；译作
 《1937，延安对话》《白宫生活》；合著中英文对照《中
 国文学选读》，英文文集《沿着丝绸之路》《重读白求
 恩》等。\n\n陈河演讲主题：时间是层厚玻璃\n\n陈河，原
 名陈小卫，生于浙江温州。1994年出国，在阿尔巴尼亚经
 营药品生意。1999年移民加拿大，定居多伦多。主要作品
 有中短篇小说《黑白电影里的城市》《夜巡》《西尼罗
 症》《我是一只小小鸟》《南方兵营》《猹》《义乌之
 囚》《天空之镜》等，长篇小说《红白黑》《沙捞越战
 事》《布偶》《米罗山营地》《在暗月中欢笑》《甲骨
 时光》《外苏河之战》，曾获首届咖啡馆短篇小说奖、
 第一届郁达夫小说奖、《小说月报》第十四届百花奖、
 第二届华侨文学最佳主体作品奖、《人民文学》中篇小
 说奖、第六届鲁迅文学奖短篇小说提名奖、第四届华侨
 华人中山杯文学奖大奖。\n\n文章演讲主题：考古小说的
 实与虚\n\n文章，加拿大华文作家，江苏省淮安市人，毕
 业于南京大学大气科学系，理学博士，任职加拿大农业
 部研究发展中心，任加拿大中国笔会理事。作品发表在
 《北京晚报》《人民日报海外版》《世界日报》《天池
 小小说》《家庭》、香港《文综》等报刊。著有长篇小
 说《情感危机》《失贞》《剩女茉莉》《玉琮迷踪》，
 散文集《好女人兵法》。其中《剩女茉莉》入围江苏省
 第六届紫金山文学奖。\n\n\n\n孙博演讲主题：华文作品如
 何走向世界\n\n孙博，知名作家、编剧，现任加拿大中国
 笔会会长、加拿大网络电视台总编辑。生于上海，大学
 毕业后留校工作，1990年移居加拿大，长期从事新闻工作
 。出版长篇小说《中国芯传奇》《回流》《茶花泪》《
 男人三十》、散文集等十多部著作，部分作品被翻译成
 英、法、韩、日文。发表影视剧本《中国智造》《中国
 处方》《中国创造》，担任三十集电视剧《错放你的手
 》编剧。曾获中国作家鄂尔多斯文学奖、中山杯华侨华
 人文学奖、英雄儿女杯电影剧本奖、北京市广电局优秀
 剧本奖等四十多项小说、散文、剧本奖。\n\n加拿大中国
 笔会（Chinese Pen Society of Canada）的前身是“天南海北笔会
 ”，赵慧泉、胡清龙前后任会长。1995年7月2日，加中笔
 会正式成立于多伦多大学医学部，王兆军任首任会长。
 胡清龙、洪天国、孙博、曾晓文先后任会长。著名诗人
 洛夫、痖弦，及著名散文家刘荒田前后担任顾问。加中
 笔会旨在促进加拿大华文文学创作、翻译与研究，以及
 与世界各地文学界的交流与合作，如今已成为“枫叶国
 里的精神家园”。笔会出版有《西方月亮──加华作家
 短篇小说精选集》《叛逆玫瑰──加华作家中篇小说精
 选集》《枫情万种──加华作家散文精选集》《旋转的
 硬币──加中笔会作品集》《走遍天下》等文集，在世
 界华文文坛展现出一道璀璨夺目的文学风景。近百名会
 员遍布加拿大的多伦多、滑铁卢、温莎、渥太华、蒙特
 利尔等城市，个别会员目前居住美国、澳大利亚、新加
 坡等国家。\n\n中文书城是专门服务于海外的电子商务网
 站。创立于2004年5月8日，由加拿大天际集团运作。天际
 集团是加拿大最大的中国文化产品公司，总部设在大多
 伦多地区。除本部外还设有若干业务公司，包括中文书
 城ChineseBookCity.com网上书店，中文书城多伦多实体店，中
 国图书贸易（加拿大）有限公司 China Book Trading (Canada) Inc
 . ，天际出版社（TIANJI PRESS）等。中文书城是加拿大最大
 的网上中文书店，其图书配送中心设立在大多伦多地区
 ，内容包括中文、英文和中英双语，图书来自中国大陆
 、香港以及加拿大本地，有近20年以上经验的专业书商。
 \n\n活动时间：2022年9月10日（周六）下午2─5时\n\n地点：
 中文书城（6-9033 Leslie St. Richmond Hill\, Ontario\, L4B 4K3）\n\n
 活动咨询: jiazhongbihui1995@gmail.com
CATEGORIES:活动聚会
END:VEVENT
BEGIN:VTIMEZONE
TZID:America/Toronto
X-LIC-LOCATION:America/Toronto
BEGIN:DAYLIGHT
DTSTART:20220313T030000
TZOFFSETFROM:-0500
TZOFFSETTO:-0400
TZNAME:EDT
END:DAYLIGHT
END:VTIMEZONE
END:VCALENDAR