BEGIN:VCALENDAR
VERSION:2.0
PRODID:-//wp-events-plugin.com//7.2.2.1//EN
TZID:America/Toronto
X-WR-TIMEZONE:America/Toronto
BEGIN:VEVENT
UID:35@mediaconfederation.com
DTSTART;TZID=America/Toronto:20221019T100000
DTEND;TZID=America/Toronto:20221019T113000
DTSTAMP:20221018T225532Z
URL:https://mediaconfederation.com/events/%e5%86%ac%e5%ad%a3%e5%ae%89%e5%8
 5%a8%e9%a9%be%e9%a9%b6%e8%ae%b2%e5%ba%a7
SUMMARY:冬季安全驾驶讲座
DESCRIPTION:\n\n 	活动时间：\n 	10月19日 10:00-11:30\n\n\n\n 	所在
 地区：\n 	Scarborough\n\n\n 	联系人：\n 	Christine\n\n\n\n\n 	联
 系电话：\n 	416-688-3594\n\n\n 	电子邮箱：\n 	christine.zhang@cic
 scanada.com\n\n\n\n 	相关地址：\n 	Zoom 会议室 [查看地图位
 置]\n\n\n\n\n美好夏天转瞬即逝，秋天已经来临，加拿大严
 酷的冬季就在眼前。如何在风雪冰雨之中行车以保证您
 和家人的生命安全是一件非常重要的事情。华咨处邀请
 资深驾校老师来给大家讲解冬季安全驾驶要点和必备常
 识，冬季汽车的检测和保养，冬季不同路面情况下的行
 车注意事项和如何处理交通事故等。欢迎有兴趣的朋友
 报名参加。 \n\n日期： 2022年10月19日，周三\n\n时间：上
 午10点至11点半\n\n地点： Zoom Meeting Room\n\n对象：  任何
 人\n\n语言：  普通话\n\n费用： 免费\n\n报名及查询：416
 -292-7510 内线101或416-688-3594张小姐\n\n请致电以上号码获
 取网上讲座的号码和密码。名额有限，预报从速。\n\n
CATEGORIES:论坛讲座
END:VEVENT
BEGIN:VTIMEZONE
TZID:America/Toronto
X-LIC-LOCATION:America/Toronto
BEGIN:DAYLIGHT
DTSTART:20220313T030000
TZOFFSETFROM:-0500
TZOFFSETTO:-0400
TZNAME:EDT
END:DAYLIGHT
END:VTIMEZONE
END:VCALENDAR