BEGIN:VCALENDAR
VERSION:2.0
PRODID:-//wp-events-plugin.com//7.2.2.1//EN
TZID:America/Toronto
X-WR-TIMEZONE:America/Toronto
BEGIN:VEVENT
UID:22@mediaconfederation.com
DTSTART;TZID=America/Toronto:20220923T000000
DTEND;TZID=America/Toronto:20220923T000000
DTSTAMP:20220923T230229Z
URL:https://mediaconfederation.com/events/%e5%85%8d%e8%b4%b9%e7%a4%be%e5%8
 c%ba%e7%a7%bb%e6%b0%91%e5%ae%89%e5%b1%85%e6%9c%8d%e5%8a%a1
SUMMARY:免费社区移民安居服务
DESCRIPTION:社区移民安居服务由加拿大移民部赞助。我们为
 新移民，难民提供免费的安居服务。\n\n我们的服务包括:
 \n\n 	文件翻译、口译、公证、表格填写\n 	政府各项福利
 金、牛奶金、失业金、老年金， 残疾金等\n 	帮您办理换
 枫叶卡、公民入籍、健康卡、廉租房、中国护照换发、
 加拿大护照申请等\n 	免费灵活的网上英语学习班\n 	提供
 职业定向和就业方向的信息指导\n 	社区健康、娱乐、家
 庭教育等信息\n 	家庭、社会、健康、法律方面的讲座\n\n
 现已开通个人约见服务，具体请致电647-250-9238或416-863-049
 9分机2051 骆姑娘（ JANE LUO)了解，谢谢！！\n\n获取服务时
 需提供登陆纸/枫叶卡或难民纸信息！谢谢！！\n\nJane Luo\
 n\nSettlement Services 移民安居服务\n\nDixon Hall Neighbourhood Serv
 ices 弈瑞堂社区服务
CATEGORIES:活动聚会
END:VEVENT
BEGIN:VTIMEZONE
TZID:America/Toronto
X-LIC-LOCATION:America/Toronto
BEGIN:DAYLIGHT
DTSTART:20220313T030000
TZOFFSETFROM:-0500
TZOFFSETTO:-0400
TZNAME:EDT
END:DAYLIGHT
END:VTIMEZONE
END:VCALENDAR