BEGIN:VCALENDAR
VERSION:2.0
PRODID:-//wp-events-plugin.com//7.2.2.1//EN
TZID:America/Toronto
X-WR-TIMEZONE:America/Toronto
BEGIN:VEVENT
UID:31@mediaconfederation.com
DTSTART;TZID=America/Toronto:20221028T061500
DTEND;TZID=America/Toronto:20221028T071500
DTSTAMP:20221016T051516Z
URL:https://mediaconfederation.com/events/%e5%85%8d%e8%b4%b9%e7%94%b3%e8%a
 f%b7%e9%95%bf%e8%80%85%e8%8d%af%e7%89%a9%e8%a1%a5%e8%b4%b4%e7%89%99%e5%8c%
 bb%e8%a1%a5%e5%8a%a9
SUMMARY:免费申请长者药物补贴牙医补助
DESCRIPTION:免费申请安省药物补贴及牙医补助\n\n密西沙加
 华人协会为新移民提供免费申请安省长者药物补贴及牙
 医补助，如果您居住在安省，是加拿大永久居民，家庭
 收入药物补贴低于$32300，牙医补贴低于$37100就有资格申
 请，敬请预约。\n\n\n&nbsp\;\n申请所需资料：枫叶卡，工
 卡，税单，健康卡，地址，电话，email邮箱\n&nbsp\;\n\n\n预
 约电话：9052758558（Jenny）\n\n地址：1177 CENTRAL PARKWAY W\,UNIT
 16\,MISSISSAUGA，ON\,L5C4P3（密市黄金广场16号）
CATEGORIES:活动聚会
END:VEVENT
BEGIN:VTIMEZONE
TZID:America/Toronto
X-LIC-LOCATION:America/Toronto
BEGIN:DAYLIGHT
DTSTART:20220313T030000
TZOFFSETFROM:-0500
TZOFFSETTO:-0400
TZNAME:EDT
END:DAYLIGHT
END:VTIMEZONE
END:VCALENDAR