BEGIN:VCALENDAR
VERSION:2.0
PRODID:-//wp-events-plugin.com//7.2.2.1//EN
TZID:America/Toronto
X-WR-TIMEZONE:America/Toronto
BEGIN:VEVENT
UID:30@mediaconfederation.com
DTSTART;TZID=America/Toronto:20221021T113000
DTEND;TZID=America/Toronto:20221021T121500
DTSTAMP:20221016T051415Z
URL:https://mediaconfederation.com/events/%e5%85%8d%e8%b4%b9%e4%b8%ba%e7%a
 7%bb%e6%b0%91%e6%9b%b4%e6%8d%a2%e6%9e%ab%e5%8f%b6%e5%8d%a1%e5%8f%8a%e5%85%
 ac%e6%b0%91%e5%85%a5%e7%b1%8d%e7%94%b3%e8%af%b7
SUMMARY:免费为移民更换枫叶卡及公民入籍申请
DESCRIPTION:社区移民服务办公室免费为移民更新枫叶卡，健
 康卡等相关证件，及免费填写相关入籍申请表格，具体
 请联系骆姑娘416-863-0499 分机2051 或办公直线电话6472509238
 。谢谢！
END:VEVENT
BEGIN:VTIMEZONE
TZID:America/Toronto
X-LIC-LOCATION:America/Toronto
BEGIN:DAYLIGHT
DTSTART:20220313T030000
TZOFFSETFROM:-0500
TZOFFSETTO:-0400
TZNAME:EDT
END:DAYLIGHT
END:VTIMEZONE
END:VCALENDAR