BEGIN:VCALENDAR
VERSION:2.0
PRODID:-//wp-events-plugin.com//7.2.2.1//EN
TZID:America/Toronto
X-WR-TIMEZONE:America/Toronto
BEGIN:VEVENT
UID:17@mediaconfederation.com
DTSTART;TZID=America/Toronto:20220921T190000
DTEND;TZID=America/Toronto:20220921T210000
DTSTAMP:20220923T230204Z
URL:https://mediaconfederation.com/events/%e4%be%86%e8%87%aa%e9%98%bf%e6%9
 6%b9%e6%96%af%e9%a9%ac%e6%88%8f%e5%9b%a2%ef%bc%8c%e7%8b%82%e9%87%8e%e6%9c%
 89%e8%b6%a3%e7%9a%84%e5%86%9c%e5%9c%baanimal
SUMMARY:來自阿方斯马戏团，狂野有趣的农场ANIMAL
DESCRIPTION:来自魁北克的阿方斯马戏团为您呈现狂野有趣的
 农场马戏\n\nThe Cultch 和温哥华国际儿童节（Vancouver Interna
 tional Children’s Festival ）于 2022 年 9 月 20 日至 24 日在温
 哥华剧院（Vancouver Playhouse）演出魁北克阿方斯马戏团（C
 irque Alfonse from Québec）的新马戏表演《动物 Animal》。\n\nA
 NIMAL为观众呈现一场丰富多彩的演出，汇集了杂技、戏剧
 、歌曲和舞蹈等，非常适合所有年龄段的观众。\n\n\n在
 这个舞台上的农场中，一切被颠倒过来，谷仓被翻了个
 底朝天：一位颇有绅士风度的农夫周围，环绕着一群熟
 悉但略显古怪的生物：有牙齿的鸡，会吓唬人的鸭子，
 上窜下跳的奶牛等等……凭借《动物》，阿方斯马戏团
 将带领观众踏上一段探索之旅，通过一系列略带超现实
 主义的农场寓言，展现他们令人印象深刻的精湛技艺以
 及阿方斯马戏团闻名遐迩的喜剧风格。\n\n\n\n自 2005 年成
 立以来，阿方斯马戏团一直在马戏界颇有盛名。他们以
 魁北克中部的一个小城市 Saint-Alphonse-Rodriguez 命名，由一
 群热爱马戏和音乐且训练有素的家人和朋友组成。他们
 已经在世界各地多次巡回演出，并广得讚誉，其中也包
 括他们的第四部重要作品《动物》。他们的节目都致力
 于让观众体会到加入社区和相互联结的喜悦。正如他们
 所说，“我们的节目体现了这样一种愿望，即重温我们
 童年那些充满活力的夜晚，让人忍不住雀跃，跳起踢踏
 舞和扔起勺子的传统音乐，那些让人们不知不觉就舞蹈
 一夜的欢乐时光。”\n\n\n\n来看看世界各地的观众和戏评
 人怎么说：\n\n"……从一开始就非常疯狂......令人难以置
 信的力量和敏捷，具有滑稽的幽默感"\n— UK Theatre Web（
 英国戏剧网 ）\n\n“整个演出有一种令人向往的社区生活
 乐趣……阿方斯马戏团再次通过别出心裁的幽默感脱颖
 而出” — 魁北克 Le Devoir （《义务报》）\n\n“将杂技、
 舞蹈、戏剧和幽默融为一体，阿方斯马戏团再次成功唤
 醒了观众童心的想像力” — Samuel Pradier，来自 Journal de M
 ontréal（《蒙特利尔杂志》）的戏评人\n\n你或许猜到了
 ：在这场演出中，没有任何一只动物受到伤害。\n因为…
 …这是一个没有马的马戏团，这是一场没有动物的ANIMAL
 马戏！\n但……居然可以非常好看！\n\n时间: 9月20-24\, 202
 2 （9月20-24 晚 7:00 点， 9月24 下午2:00 点）\n剧场: Vancouver
  Playhouse\, 600 Hamilton St\, Vancouver\, BC\n票价: $20起。请致电
 票房: 604-251-1363 或者网站购买https://thecultch.com/event/animal/
 \n\n为了让更多家庭和观众可以近距离看到这场演出，Cult
 ch还为您准备了特别折扣：\n请使用折扣码“FUN”，可以
 折扣价 $39 购买 $49 的A等票和 $59 的A+票。\n\n制作团队: C
 irque Alfonse\n艺术指导: Julie and Antoine Carabinier-Lépine\n导演:
  Alain Francoeur\n音乐和歌曲原创: David Simard\n舞台设计: Nicol
 as Descoteaux\n灯光设计: Nicolas Descoteaux\n服装设计: Geneviève 
 Beauchamps\n杂技道具设计: Sylvain Lafrénière\n\n演出团队:\n演
 员: Antoine Carabinier Lépine\, Julie Carabinier Lépine\, Alain Carabin
 ier\,\nJonathan Casaubon\, Jean-Philippe Cuerrier\, Geneviève Morin\n\n
 乐队: Josianne Laporte\, David Simard\, Guillaume Turcotte.\n\n技术团
 队:\n音效师: Katie Sweeney\n灯光师: Jean-François Piché\n\n\n\n
 关于阿方斯马戏团 （CIRQUE ALFONSE）:\n阿方斯马戏团由Carab
 inier-Lépine 的家人和朋友一起建立，其名称来自其位于 La
 naudière 的自治市 Saint-Alphonse-Rodriguez。魁北克文化是 Cirqu
 e Alfonse 创作的核心，他们以民间传说为主题，并在作品
 中增添现代气息。Alfonse 家族凭借其在2011 年的作品 Timber
 ! 中木材营地题材，以及 2014 年在 Barbu 中结合了电子乐
 和传统的歌舞表演，以及 2017 年的作品 Tabarnak 多次赢得
 了公众的心。在多次全球巡演并获得极大成功之后，该
 剧团回归加拿大，希望给本国观众带来难忘的时光。\n\n
 关于温哥华国际儿童节（VANCOUVER INTERNATIONAL CHILDREN’S FEST
 IVAL）\n温哥华国际儿童节是举办时间最长的专为青少年
 观众设计的表演艺术节，也是北美和欧洲首个此类艺术
 节，旨在为整个家庭呈现世界上最优秀的音乐、戏剧、
 舞蹈、木偶、杂技和讲故事节目，以及提供创意艺术活
 动。每一年，来自各地的家庭都会来这个年度艺术节，
 体验专门为儿童和家庭打造的盛会。我们致力于提供创
 造性且多样化的节目，让尽可能多的小观众开心参与。
ATTACH;FMTTYPE=image/jpeg:https://mediaconfederation.com/wp-content/upload
 s/2022/09/632bb9c48a54b.jpg
END:VEVENT
BEGIN:VTIMEZONE
TZID:America/Toronto
X-LIC-LOCATION:America/Toronto
BEGIN:DAYLIGHT
DTSTART:20220313T030000
TZOFFSETFROM:-0500
TZOFFSETTO:-0400
TZNAME:EDT
END:DAYLIGHT
END:VTIMEZONE
END:VCALENDAR