BEGIN:VCALENDAR
VERSION:2.0
PRODID:-//wp-events-plugin.com//7.2.2.1//EN
TZID:America/Toronto
X-WR-TIMEZONE:America/Toronto
BEGIN:VEVENT
UID:34@mediaconfederation.com
DTSTART;TZID=America/Toronto:20221020T084500
DTEND;TZID=America/Toronto:20221020T170000
DTSTAMP:20221018T225418Z
URL:https://mediaconfederation.com/events/%e4%bd%8e%e6%94%b6%e5%85%a5%e7%a
 7%bb%e6%b0%91%e5%ae%b6%e5%ba%ad%e5%9c%a3%e8%af%9e%e7%a4%bc%e7%89%a9%e7%9b%
 92%e7%99%bb%e8%ae%b0
SUMMARY:低收入移民家庭圣诞礼物盒登记
DESCRIPTION:\n 	活动时间：10月20日 09:00-17:00\n\n\n\n 	所在地区
 ：大多地区\n\n\n 	联系人：家和\n\n\n\n\n 	联系电话：416-97
 9-8299\n\n\n\n 	\n\n\n
ATTACH;FMTTYPE=image/jpeg:https://mediaconfederation.com/wp-content/upload
 s/2022/10/634977c916933.jpg
CATEGORIES:活动聚会
END:VEVENT
BEGIN:VTIMEZONE
TZID:America/Toronto
X-LIC-LOCATION:America/Toronto
BEGIN:DAYLIGHT
DTSTART:20220313T030000
TZOFFSETFROM:-0500
TZOFFSETTO:-0400
TZNAME:EDT
END:DAYLIGHT
END:VTIMEZONE
END:VCALENDAR