BEGIN:VCALENDAR
VERSION:2.0
PRODID:-//wp-events-plugin.com//7.2.2.1//EN
TZID:America/Toronto
X-WR-TIMEZONE:America/Toronto
BEGIN:VEVENT
UID:29@mediaconfederation.com
DTSTART;TZID=America/Toronto:20221027T091500
DTEND;TZID=America/Toronto:20221027T101500
DTSTAMP:20221016T051332Z
URL:https://mediaconfederation.com/events/%e4%bd%8e%e6%94%b6%e5%85%a5%e5%a
 e%b6%e5%ba%ad%e7%94%b5%e8%b4%b9%e5%87%8f%e5%85%8d
SUMMARY:低收入家庭电费减免
DESCRIPTION:社区移民服务办公室免费为低收入的移民家庭申
 请安省电费减免项目，具体请联系骆姑娘(Jane Luo) 416-863-0
 499 分机2051 或致电办公直线电话6472509238，谢谢！\n\n&nbsp\
 ;\n\nJane Luo\n\nDixon Hall Neighbouhood Services
CATEGORIES:活动聚会
END:VEVENT
BEGIN:VTIMEZONE
TZID:America/Toronto
X-LIC-LOCATION:America/Toronto
BEGIN:DAYLIGHT
DTSTART:20220313T030000
TZOFFSETFROM:-0500
TZOFFSETTO:-0400
TZNAME:EDT
END:DAYLIGHT
END:VTIMEZONE
END:VCALENDAR