BEGIN:VCALENDAR
VERSION:2.0
PRODID:-//wp-events-plugin.com//7.2.2.1//EN
TZID:America/Toronto
X-WR-TIMEZONE:America/Toronto
BEGIN:VEVENT
UID:38@mediaconfederation.com
DTSTART;TZID=America/Toronto:20221024T020000
DTEND;TZID=America/Toronto:20221025T030000
DTSTAMP:20221018T230122Z
URL:https://mediaconfederation.com/events/%e4%b8%80%e5%b0%8f%e6%97%b6%e4%b
 a%86%e8%a7%a3%e5%8a%a0%e6%8b%bf%e5%a4%a7%e5%a4%a7%e5%ad%a6%e5%92%8c%e5%ad%
 a6%e9%99%a2%e7%9a%84%e4%b8%8d%e5%90%8c%e9%80%89%e6%8b%a9
SUMMARY:一小时了解加拿大大学和学院的不同选择
DESCRIPTION:想了解加拿大大学的教育系统的不同选择？\n\n2
 月10日，周三 ， 下午4点半到5点半\n\n多华会请到了来自
 不同大学的毕业生为你解读关于✅学校申请，✅奖学金
 补助，✅各类学科和学校的学习体验和就业前景等你想
 知道的一切！\n\n欢迎感兴趣的学生和家长报名！\n\n\n&nbs
 p\;\n\n&nbsp\;\n\n\n*请直接登录https://forms.gle/QNetfkp9FoQWfpup7填
 写报名表，或添加微信Tccsapc3，拨打电话905-615-9500\n\n*工
 作坊会以全英文进行。\n\n*課程为IRCC赞助的免费活动，
 加入活动需提供枫叶卡或移民纸信息。\n\n\n
ATTACH;FMTTYPE=image/jpeg:https://mediaconfederation.com/wp-content/upload
 s/2022/10/627186e0c5ae4.png
CATEGORIES:论坛讲座
END:VEVENT
BEGIN:VTIMEZONE
TZID:America/Toronto
X-LIC-LOCATION:America/Toronto
BEGIN:DAYLIGHT
DTSTART:20220313T030000
TZOFFSETFROM:-0500
TZOFFSETTO:-0400
TZNAME:EDT
END:DAYLIGHT
END:VTIMEZONE
END:VCALENDAR